BEGIN:VCALENDAR
VERSION:2.0
PRODID:-//Gratis-in-Berlin//NONSGML kigkonsult.se iCalcreator 2.14//
METHOD:PUBLISH
X-WR-CALNAME:Gratis-in-Berlin Tip Kalender
X-WR-CALDESC:Erhalte Gratis-in-Berlin Tips in deinem Kalender
BEGIN:VEVENT
UID:20260419T153017UTC-1231S5JfZr@Gratis-in-Berlin
DTSTAMP:20260419T153017Z
DESCRIPTION:Fruchtiger BeigeschmackMilena (Gesang\, Klavier)Hugo Levi (Bass
 \, Gitarre\, Gesang)Felix (Schlagzeug\, Klavier\, Arrangements)Blumenwiese
 n\, Selbstfindung und düstere Dystopien. In der Musik der Band Fruchtiger Beige
 schmack geht es Thematisch um die Vielfalt von Gefühlen und der Realität. Die deu
 tschsprachige Indie-Band aus München vereint sowohl viele verschiedene Thematik
 en\, als auch die verschiedensten Genres und Klänge aus aller Welt. Dabei sp
 iegeln sich vor allem Jazzeinflüsse wider und eine ganz neue Mischung aus Indie
 pop und Jazz\, der sog. Indie-Jazz\, entsteht. Milena (Gesang\, Klavier)\,
  Hugo Levi (Bass\, Gitarre\, Gesang) und Felix (Schlagzeug\, Klavier\, Arr
 angements) haben im Oktober 2024 ihre erste EP ?Skript I. des nichts? veröffe
 ntlicht. Gefolgt von der Single ?Rote Zahlen? im Dezember und der Single ?
 Stille? im Februar\, in denen sie ihre Vielfältigkeit und liebe zum Jazz unt
 er Beweis stellen.Auf der Bühne\, wie im echten Leben\, kann die Band Feuerzeug
 e aus den Taschen zaubern\, abtanzen und Hütten abreißen.https://youtu.be/3GaDwF
 Sg5u0?si=M9B2A8J1IqwOH43Whttps://arcticmusic.de/kuenstler/Fruchtiger%20Bei
 geschmack/32429a85-6b17-448a-831c-c8c1fcaa674d/Live on YouTube: https://ww
 w.youtube.com/live/uKDiNhRAlhY?si=hIGDCtJyrOUTK98N------------------------
 --------------------------------------------------------------------------
 ---------------------------Kilian KnightKilian Knight erzählt in seinem erst
 en Interview direkt am Anfang\, dass er aus Wolfsburg kommt. Wolfsburg? Di
 e Stadt\, aus der VW und ein mal besser\, mal schlechter aufspielender Wer
 ksclub kommen? Richtig! Ein 21-jähriger Musiker\, der sich gerade als wahnsi
 nnig spannender Durchstarter in der deutschen Indie-Szene einen Namen mach
 t und bereits mehr als 1 Millionen Streams verzeichnen kann. Inspiriert vo
 n der Musik seiner Eltern\, insbesondere Künstlern wie den Beatles und Pink Flo
 yd\, entwickelte er früh eine Leidenschaft für die Klänge vergangener Jahrzehnte. Dies
 e frühen Einflüsse spiegeln sich in seiner Musik wider\, die klassische Elemente mit
  modernen Produktionstechniken verbindet und sehr untypisch für einen 21-jährigen
  sind\, der sich selbst mit seiner über 400 Platten großen Sammlung präsentiert. N
 ach ersten musikalischen Gehversuchen\, Beatles-Covers\, einer kreativen P
 ause und einer Weiterentwicklung seines musikalischen Geschmacks ? beeinfl
 usst von Post-Punk-Bands wie The Cure\, The Smiths und der Neuen Deutschen
  Welle ? fand Kilian mit dem Song ?Stimmen? (2023) schließlich seinen Weg z
 ur deutschsprachigen Musik.https://www.youtube.com/channel/UCw6aiK4O17Hvlt
 mATDUM7NQhttps://arcticmusic.de/kuenstler/Kilian%20Knight/4e1d3119-16fb-47
 4c-8250-ab12942137a8/Live on YouTube: https://www.youtube.com/live/hzAhZQe
 w0tA?si=sgfnkbT6C8JoLiKI--------------------------------------------------
 --------------------------------------------------------------------------
 ----------Eintritt frei ? um angemessenen Kulturbeitrag wird gebeten.Free 
 entry ? it is suggested to give some money if you like the band.Das Peppi 
 Guggenheim ist eine Raucherinnenbar! Einlass ab 18 Jahre!The Peppi Guggenh
 eim is a smoking bar! Admission from 18 years!#FruchtigerBeigeschmack #Kil
 ianKnight #Pop #Rock #Jazz #PeppiGuggenheim #Neukölln #Berlin #BerlinJazz #Ja
 zzNeukölln\n\nViel Spass wünscht Gratis-in-Berlin\n\nLink zum Tip: \nZu den Gratis
 -in-Berlin Angeboten: http://www.gratis-in-berlin.de\n
DTSTART;VALUE=DATE:20260213
DTEND;VALUE=DATE:20260214
SUMMARY:Pop @ Peppi: Fruchtiger Beigeschmack + Kilian Knight
END:VEVENT
END:VCALENDAR
