BEGIN:VCALENDAR
VERSION:2.0
PRODID:-//Gratis-in-Berlin//NONSGML kigkonsult.se iCalcreator 2.14//
METHOD:PUBLISH
X-WR-CALNAME:Gratis-in-Berlin Tip Kalender
X-WR-CALDESC:Erhalte Gratis-in-Berlin Tips in deinem Kalender
BEGIN:VEVENT
UID:20260419T153031UTC-8607dkWifW@Gratis-in-Berlin
DTSTAMP:20260419T153031Z
DESCRIPTION:rom punkrock makeovers to pop reinventions\, from dance bangers
  to melancholic ballads ? we play nothing but cover versions of songs. Bec
 ause why choose between the familiar and the novel if you can have both?He
 re you can listen to a few songs from our set:https://open.spotify.com/pla
 ylist/3nq6ZJYocvpCMBvrOw24KZ#OnlyCoversLeftAlive #DJ #Vinyl #Cover #Punk #
 Rock #Pop #Electro\n\nViel Spass wünscht Gratis-in-Berlin\n\nLink zum Tip: \nZu
  den Gratis-in-Berlin Angeboten: http://www.gratis-in-berlin.de\n
DTSTART;VALUE=DATE:20260219
DTEND;VALUE=DATE:20260220
SUMMARY:DJ-Tag @ Peppi: DJ Smorgasbord meets Only Covers Left Alive
END:VEVENT
END:VCALENDAR
