BEGIN:VCALENDAR
VERSION:2.0
PRODID:-//Gratis-in-Berlin//NONSGML kigkonsult.se iCalcreator 2.14//
METHOD:PUBLISH
X-WR-CALNAME:Gratis-in-Berlin Tip Kalender
X-WR-CALDESC:Erhalte Gratis-in-Berlin Tips in deinem Kalender
BEGIN:VEVENT
UID:20260419T121309UTC-9270z2Biod@Gratis-in-Berlin
DTSTAMP:20260419T121309Z
DESCRIPTION:Geoffrey Fiorese : pianoSylavina Debaisieux : saxophoneJordi Ca
 ssagne : doublebassThéo Lanau : drumsNamed Terpsichore after the muse of dan
 ce\, the quartet presents us enchanting\, original music heart-warming the
  audience through long improvisations\, memorable melodies and a determine
 d jazz spirit.Initially created around the Keith Jarret?s American quartet
  repertoire\, the band quickly began to play Geoffrey Fiorese?s original c
 ompositions driving the quartet?s music into a very personal sound but alw
 ays keeping the original spirit. The first album of the band was released 
 in 2021 and elected ?jazz revelation? by the French review Jazz Magazine.h
 ttps://geoffreyfiorese.bandcamp.com/album/terpsichoreLive on YouTube: http
 s://www.youtube.com/watch?v=wN5qeFB4Lf0Eintritt frei ? um angemessenen Kul
 turbeitrag wird gebeten.Free entry ? it is suggested to give some money if
  you like the band.Das Peppi Guggenheim ist eine Raucherinnenbar! Einlass 
 ab 18 Jahre!The Peppi Guggenheim is a smoking bar! Admission from 18 years
 !#Terpsichore #GeoffreyFiorese #SylavinaDebaisieux #JordiCassagne #TheoLan
 au #Jazz #Improvisation #modernjazz #Fusion #PeppiGuggenheim #Neukölln #Berli
 n #BerlinJazz #JazzNeukölln #JazzBerlin\n\nViel Spass wünscht Gratis-in-Berlin\n\n
 Link zum Tip: https://www.gratis-in-berlin.de/kalender/item/2076815-jazz-p
 eppi-terpsichore\nZu den Gratis-in-Berlin Angeboten: http://www.gratis-in-
 berlin.de\n
DTSTART;VALUE=DATE:20260220
DTEND;VALUE=DATE:20260221
SUMMARY:Jazz @ Peppi: Terpsichore
END:VEVENT
END:VCALENDAR
