BEGIN:VCALENDAR
VERSION:2.0
PRODID:-//Gratis-in-Berlin//NONSGML kigkonsult.se iCalcreator 2.14//
METHOD:PUBLISH
X-WR-CALNAME:Gratis-in-Berlin Tip Kalender
X-WR-CALDESC:Erhalte Gratis-in-Berlin Tips in deinem Kalender
BEGIN:VEVENT
UID:20260420T133423UTC-2565hK3PM5@Gratis-in-Berlin
DTSTAMP:20260420T133423Z
DESCRIPTION:--- Live in Berlin ---Three bands\, one night: ? Patokai ? Elec
 tropunk? Euphoric Elephants ? Grunge / Rock? The V?s ? Hard Rock Come thro
 ugh\, bring your friends and make some noise in Kreuzberg.\n\nViel Spass w
 ünscht Gratis-in-Berlin\n\nLink zum Tip: \nZu den Gratis-in-Berlin Angeboten: h
 ttp://www.gratis-in-berlin.de\n
DTSTART;VALUE=DATE:20260214
DTEND;VALUE=DATE:20260215
SUMMARY:'Euphoric Elephants\, Patokai & The V?s' - Konzert im RegenbogenKin
 o
END:VEVENT
END:VCALENDAR
