BEGIN:VCALENDAR
VERSION:2.0
PRODID:-//Gratis-in-Berlin//NONSGML kigkonsult.se iCalcreator 2.14//
METHOD:PUBLISH
X-WR-CALNAME:Gratis-in-Berlin Tip Kalender
X-WR-CALDESC:Erhalte Gratis-in-Berlin Tips in deinem Kalender
BEGIN:VEVENT
UID:20260419T122619UTC-9667nCZTpE@Gratis-in-Berlin
DTSTAMP:20260419T122619Z
DESCRIPTION:Gemeinschaft statt Kommerz In Kooperation mit Support Local Mus
 ic Berlin lädt die Galerie KungerKiez monatlich zu einem akustischen Abend m
 it talentierten Singer-/Songwriter*innen aus der Nachbarschaft und Berlin 
 ein. 19:30 Uhr: Einlass &amp\; Öffnung der Bar 20 Uhr: Johanna Fischer 21 U
 hr: Feathered Fire Der Eintritt ist frei. Spenden für die Musiker*innen sind he
 rzlich willkommen. Johanna Fischer ist Singer-Songwriterin aus Berlin und 
 schreibt seit 2010 eigene Songs. Ihre Musik ist vor allem ein Weg\, sich s
 elbst besser zu verstehen\, Gefühle zu sortieren und herauszufinden\, was ihr w
 irklich wichtig ist und wer sie ist. Das Schreiben und Singen hilft ihr\, 
 sich künstlerisch und menschlich auf einer sehr tiefen Ebene zu spüren. 2021 erfüllte sie
  sich einen Traum und nahm ein ganzes Album mit ihren eigenen Liedern im S
 tudio auf. In den letzten Jahren wurde sie Mutter\, was ihr Leben neu gepr
 ägt und verändert hat. Jetzt\, nach 4 Jahren Mutterschaft\, fühlt es sich für sie an\, w
 ieder mehr Raum für Musik zu schaffen und neue Songs nach außen zu bringen. Ihre
  aktuellen Lieder entstehen dem Bedürfnis\, ehrlich zu bleiben\, mit sich selbs
 t und mit der Welt. Feathered Fire ist ein Projekt der facettenreichen Künstler
 in Seraphina Taylor. Ihre Musik bewegt sich über Genregrenzen hinweg und schöpft I
 nspiration aus den Werken von Sister Rosetta Tharpe\, Bach\, Joan Jett und
  dem Electric Light Orchestra ? und spiegelt dabei den Geist von Fiona App
 le\, Annie Lennox und Tori Amos wider. Durch ihren enormen Stimmumfang sch
 afft sie es in ihren Songs federleichte Zartheit mit punkiger Stärke zu verb
 inden. Sie improvisiert komplette Tracks live\, lebt von Kollaborationen u
 nd entzündet Bühnen mit einer Intensität\, die einer Flamme gleicht. Live begleitet wi
 rd sie dabei von Harry Hudson Taylor an Gitarre\, Keys und Backing Vocals.
  Die Konzertreihe findet monatlich mit wechselnden Musiker*innen statt. Di
 e nächsten Termine sind: Donnerstag\, 26. März Donnerstag\, 23. April Donnerst
 ag\, 21. Mai Sonntag\, 21. Juni (Fete de la musique)\n\nViel Spass wünscht Grat
 is-in-Berlin\n\nLink zum Tip: \nZu den Gratis-in-Berlin Angeboten: http://
 www.gratis-in-berlin.de\n
DTSTART;VALUE=DATE:20260219
DTEND;VALUE=DATE:20260220
SUMMARY:Kiezkonzert No. 9 // Johanna Fischer & Feathered Fire
END:VEVENT
END:VCALENDAR
