BEGIN:VCALENDAR
VERSION:2.0
PRODID:-//Gratis-in-Berlin//NONSGML kigkonsult.se iCalcreator 2.14//
METHOD:PUBLISH
X-WR-CALNAME:Gratis-in-Berlin Tip Kalender
X-WR-CALDESC:Erhalte Gratis-in-Berlin Tips in deinem Kalender
BEGIN:VEVENT
UID:20260419T131237UTC-3860hfenxZ@Gratis-in-Berlin
DTSTAMP:20260419T131237Z
DESCRIPTION:B-ASPÄRGER\, das sind Private Max und Baba Rossa.Gemeinsam sezie
 ren die beiden Berliner Rapper den ganz normalen Millennial-Wahnsinn:Zwang
 hafte Yoga-Routinen\, Bitcoin-Business-Fieberträume\, versoffene Club-Smallt
 alks und fragile Männlichkeitsbilder ? alles verpackt in satirische Punchlin
 es\, die manchmal wehtun und manchmal einfach nur dumm-glücklich machen. Seit i
 hrem Debütalbum ?Geschmackssache? (2021) und den EPs ?B-Ware? (2022) und ?Aerob
 ic? (2025)\, ihrer aktuellen Platte\, mischen sie munter Boom-Bap\, Trap\,
  Drill\, Metal\, Reggae ? und sogar eine Prise Schlager.Genregrenzen? Habe
 n die beiden noch nie gesehen.Auch auf der Bühne ist alles erlaubt: Grelle Outf
 its\, Slapstick\, Satire und cartoonesker Humor. Anschnallen ? B-ASPÄRGER l
 aden ein zur Achterbahnfahrt der Gefühle. Marco\, aka X Jobba\, entwickelt sein
 e Leidenschaft für Hip-Hop im Jahr 2004 und beginnt zusammen mit seiner damalig
 en Gruppe Konzerte in Ligurien zu spielen.2010 gründet er das Kollektiv OverKil
 l Army: fünf MCs und ein Beatmaker\, die zwei Alben veröffentlichen (?Teste di nic
 chia? und ?Nuovo Disordine Mentale?) und sich durch zahlreiche Auftritte i
 n Nord- und Mittelitalien einen Namen in der Underground-Szene machen.Nach
  der Erfahrung mit OverKill Army nimmt er am Mega-Crew-Projekt OverMindz t
 eil\, das ebenfalls eine EP (?Ultrasuoni?) veröffentlicht. X Jobba hat außerde
 m zwei Soloalben und eine EP herausgebracht (?Maracujá?\, ?Tra corona e Sidd
 harta? und ?U7 Hermannplatz?).Seit 2014 lebt er in Berlin und ist Teil des
  Kollektivs Berlin International Cypher. LOLY ? a little hippie\, a little
  hood. Berlin based. Fleischgewordene Inkarnation von: ?Darf sie das?? Ihr
 e Texte sind verspielt\, frech\, und schlagen ein.Authentisch. Old School.
  Unterschwellig Oberlässig!&nbsp\;\n\nViel Spass wünscht Gratis-in-Berlin\n\nLink
  zum Tip: \nZu den Gratis-in-Berlin Angeboten: http://www.gratis-in-berlin
 .de\n
DTSTART;VALUE=DATE:20260213
DTEND;VALUE=DATE:20260214
SUMMARY:'B-ASPÄRGER\, X Jobba und LOLY' - Konzert im RegenbogenKino
END:VEVENT
END:VCALENDAR
