BEGIN:VCALENDAR
VERSION:2.0
PRODID:-//Gratis-in-Berlin//NONSGML kigkonsult.se iCalcreator 2.14//
METHOD:PUBLISH
X-WR-CALNAME:Gratis-in-Berlin Tip Kalender
X-WR-CALDESC:Erhalte Gratis-in-Berlin Tips in deinem Kalender
BEGIN:VEVENT
UID:20260420T133413UTC-5684TSuhGV@Gratis-in-Berlin
DTSTAMP:20260420T133413Z
DESCRIPTION:Dietmar Kirstein\, Klavierspielt Musik zwischen Imagination und
  Realität und wagt den Spagat zwischenMinimalismus\, Neue Romantik und Jazz.
  Zeitgenössische Musik im besten Sinn\, die klare Bezüge zu Film und Bewegung / Ch
 oreographie hat.Kompositionen von Carla Bley\, John Cage\, Bob Dylan\, Phi
 lip Glass\, Dietmar Kirstein\, Kraftwerk\, La Monte Young\, Max Richter\, 
 Hans Otte\n\nViel Spass wünscht Gratis-in-Berlin\n\nLink zum Tip: https://www.g
 ratis-in-berlin.de/musik/item/2076977-zeitgenoessische-musik-im-besten-sin
 n\nZu den Gratis-in-Berlin Angeboten: http://www.gratis-in-berlin.de\n
DTSTART;VALUE=DATE:20260205
DTEND;VALUE=DATE:20260206
SUMMARY:Zeitgenössische Musik im besten Sinn - 
END:VEVENT
END:VCALENDAR
