BEGIN:VCALENDAR
VERSION:2.0
PRODID:-//Gratis-in-Berlin//NONSGML kigkonsult.se iCalcreator 2.14//
METHOD:PUBLISH
X-WR-CALNAME:Gratis-in-Berlin Tip Kalender
X-WR-CALDESC:Erhalte Gratis-in-Berlin Tips in deinem Kalender
BEGIN:VEVENT
UID:20260421T133751UTC-1670UBPHca@Gratis-in-Berlin
DTSTAMP:20260421T133751Z
DESCRIPTION:Die erste Hälfte seines Lebens verbrachte Assaf Levitin in Israel
 \, während die zweite Hälfte ihn nach Deutschland führte. Dort hat er die deutsche 
 Sprache gelernt\, seine Familie gegründet und die deutsche Staatsbürgerschaft erworb
 en. Er fühlt sich in Deutschland sehr wohl\, beinahe wie zuhause. Trotz seiner 
 gelungenen Integration in Deutschland hört Assaf Levitin nicht auf\, gedankli
 ch und emotionell auch in seiner ersten Heimat\, Israel\, zu leben. Er zie
 ht Vergleiche zwischen den beiden Orten und betrachtet sowohl deren Schönheit
  als auch ihre Probleme. In seinem Programm teilt Assaf Levitin durch eige
 ne Gedichte und Songs sein Gefühl\, zwei Heimaten zu haben - oder vielleicht ga
 r keine so richtig.Assaf Levitin\, 1972 in Tel Aviv geboren\, lebt seit 26
  Jahren in Deutschland\, arbeitet in Hamburg an der Reformsynagoge als Cha
 zzan/ Kantor\, lebt in BerlinSein musikalischer Werdegang erstreckt sich über d
 as Komponieren\, Arrangieren\, das Leiten von Chören bis hin zum Unterrichten
 . Im Jahr 2016 schloss er seine Ausbildung zum Kantor am Abraham-Geiger-Ko
 lleg der Universität Potsdam ab.Seit 2014 ist Assaf mit seinem Ensemble 'Die
  Drei Kantoren' Teil des offiziellen Kulturprogramms des Zentralrats der J
 uden in Deutschland.Assaf Levitin ? Gesang\, Moderation\, Saxophon und Kla
 rinetteNaaman Wagner ? Klavier\n\nViel Spass wünscht Gratis-in-Berlin\n\nLink z
 um Tip: \nZu den Gratis-in-Berlin Angeboten: http://www.gratis-in-berlin.d
 e\n
DTSTART;VALUE=DATE:20261126
DTEND;VALUE=DATE:20261127
SUMMARY:Assaf Levitin 'Doppelpass. Mein Leben als Spagat zwischen Israel un
 d Deutschland'
END:VEVENT
END:VCALENDAR
