BEGIN:VCALENDAR
VERSION:2.0
PRODID:-//Gratis-in-Berlin//NONSGML kigkonsult.se iCalcreator 2.14//
METHOD:PUBLISH
X-WR-CALNAME:Gratis-in-Berlin Tip Kalender
X-WR-CALDESC:Erhalte Gratis-in-Berlin Tips in deinem Kalender
BEGIN:VEVENT
UID:20260420T130220UTC-93080ugAla@Gratis-in-Berlin
DTSTAMP:20260420T130220Z
DESCRIPTION:Das Berliner Jazzquintett\, angeführt von den beiden Tenorsaxofonist
 en Bernd Suchland und Patrick Braun\, kommt gleich zur Sache: Frisch und v
 irtuos\, rau und direkt beweist die Band die nachhaltige Energie von authe
 ntischem Jazz. Sie nehmen sie ernst\, die Musik\, die seit den 50er und 60
 er Jahren ihre zeitlose Legitimation bewiesen hat.Und das mit einem Repert
 oire\, das aus echten Entdeckungen besteht: Längst vergessene Stücke in der Tradi
 tion der legendären Two-Tenor-Formationen werden aus den unerschöpflichen Archi
 ven des Jazz hervorgeholt und wieder auf die Bühne gebracht. Dies funktioniert 
 seit nunmehr 20 Jahren und rund 400 Konzerten sehr gut. Das Publikum schätzt
  die unkomplizierte Herangehensweise der Musiker und spürt den relaxten Groove 
 dieser beseelten Musik. The Toughest Tenors erhalten stilsicher den Bereic
 h des Jazz am Leben\, der früher zur Alltagskultur gehörte und der es verdient\, i
 hn weniger mit dem Kopf zu analysieren\, als ihn vielmehr mit dem Herzen z
 u hören.The Toughest Tenors sind:Bernd Suchland\, TenorsaxophonPatrick Braun\
 , TenorsaxophonDan-Robin Matthies\, PianoLars Gühlcke\, KontrabassRalf Ruh\, Sc
 hlagzeug\n\nViel Spass wünscht Gratis-in-Berlin\n\nLink zum Tip: \nZu den Grati
 s-in-Berlin Angeboten: http://www.gratis-in-berlin.de\n
DTSTART;VALUE=DATE:20260212
DTEND;VALUE=DATE:20260213
SUMMARY:Jazz in der Alten Feuerwache - The Toughest Tenors
END:VEVENT
END:VCALENDAR
