BEGIN:VCALENDAR
VERSION:2.0
PRODID:-//Gratis-in-Berlin//NONSGML kigkonsult.se iCalcreator 2.14//
METHOD:PUBLISH
X-WR-CALNAME:Gratis-in-Berlin Tip Kalender
X-WR-CALDESC:Erhalte Gratis-in-Berlin Tips in deinem Kalender
BEGIN:VEVENT
UID:20260421T091505UTC-1389EvhuA3@Gratis-in-Berlin
DTSTAMP:20260421T091505Z
DESCRIPTION:Die Steinmetzstraße im Schöneberger Norden verwandelt sich in ein F
 est mit großem nostalgischem Charakter. ?Gazino ? Basar und Musikfest? in E
 rinnerung an den legendären Türkischen Basar im U-Bahnhof Bülowstraße vereint modernes 
 und traditionelles Leben und hält ein weiteres Stück der Kultur der türkeistämmigen Berl
 iner_innen lebendig.Mit der vielfachen Unterstützung von Vertreter_innen u. a. 
 der deutsch-türkischen Community erwartet die Besucher_innen ein buntes Fest für Gro
 ß und Klein.Die musikalischen Darbietungen reichen von türkischer Folklore bis P
 op. Ein Angebot typischer Speisen und Getränke sorgen für den kulinarischen Genus
 s. Der Eintritt ist frei.\n\nViel Spass wünscht Gratis-in-Berlin\n\nLink zum Ti
 p: https://www.gratis-in-berlin.de/musik/item/2076996-gazino-basar-und-mus
 ikfest\nZu den Gratis-in-Berlin Angeboten: http://www.gratis-in-berlin.de
 \n
DTSTART;VALUE=DATE:20260704
DTEND;VALUE=DATE:20260705
SUMMARY:Gazino - Basar und Musikfest
END:VEVENT
END:VCALENDAR
