BEGIN:VCALENDAR
VERSION:2.0
PRODID:-//Gratis-in-Berlin//NONSGML kigkonsult.se iCalcreator 2.14//
METHOD:PUBLISH
X-WR-CALNAME:Gratis-in-Berlin Tip Kalender
X-WR-CALDESC:Erhalte Gratis-in-Berlin Tips in deinem Kalender
BEGIN:VEVENT
UID:20260421T133749UTC-8653RtNF73@Gratis-in-Berlin
DTSTAMP:20260421T133749Z
DESCRIPTION:Garage-Soul\n\nViel Spass wünscht Gratis-in-Berlin\n\nLink zum Tip: 
 \nZu den Gratis-in-Berlin Angeboten: http://www.gratis-in-berlin.de\n
DTSTART;VALUE=DATE:20260624
DTEND;VALUE=DATE:20260625
SUMMARY:Wild Wednesday w. 'Abby Jeanne & The Shadowband' (Garage-Soul/USA)
END:VEVENT
END:VCALENDAR
