BEGIN:VCALENDAR
VERSION:2.0
PRODID:-//Gratis-in-Berlin//NONSGML kigkonsult.se iCalcreator 2.14//
METHOD:PUBLISH
X-WR-CALNAME:Gratis-in-Berlin Tip Kalender
X-WR-CALDESC:Erhalte Gratis-in-Berlin Tips in deinem Kalender
BEGIN:VEVENT
UID:20260421T120152UTC-9564ja9OJe@Gratis-in-Berlin
DTSTAMP:20260421T120152Z
DESCRIPTION:Das Stetson University Orchestra setzt sich aus Mitgliedern des
  universitären Sinfonie-\, Kammer- und Opernorchesters zusammen. Während des v
 ierjährigen Studiums erarbeiten die Studenten ein repräsentatives Repertoire\,
  das einen Querschnitt des Orchesterrepertoires vom 17. Jahrhundert bis zu
 r Gegenwart umfasst. Dazu gehören Werke barocker Komponisten wie Bach\, Corel
 li\, Geminiani\, Händel\, Sinfonien von Haydn\, Mozart\, Beethoven\, Schuber
 t\, Schumann\, sowie Werke von Bernstein\, Britten\, Chabrier\, Debussy\, 
 Elgar und Grieg.Zu den aufgeführten Opern gehören Candide (Bernstein)\, La Clemenz
 a di Tito (Mozart)\, Die Fledermaus (Strauss)\, Hänsel und Gretel (Humperdin
 ck) und L?Italiana in Algeri (Rossini).Das Orchester widmet sich der Aufführung
  zeitgenössischer Musik sowohl international bekannter Komponisten als auch v
 on Studenten der Stetson University. Das Ensemble tourt gern durch die USA
  und nach Europa und hat bereits in England\, Wales und Italien gespielt. 
 Die Studenten unter der Leitung ihres Dirigenten Anthony Hose freuen sich 
 schon sehr auf ihre Reise nach Deutschland\, um in Berlin und Halle ihre G
 äste zu begeistern. Programm: Sinfonia concertante Es-Dur für Violine\, Viola und
  Orchester KV 364 - Wolfgang Amadeus Mozart 1. Allegro maestoso2. Andante3
 . Presto&nbsp\; Solisten: Katarina Nieminen\, Violine und Aine Mullen\, Vi
 ola Fantasia on a Theme by Thomas Tallis - Ralph Vaughan Williams 1. Sinfo
 nie in C-Dur op. 21 - Ludwig van Beethoven1. Adagio molto ? Allegro con br
 io2. Andante cantabile con moto3. Menuetto. Allegro molto e vivace4. Adagi
 o ? Allegro vivace e con moto Konzertdauer: ca. 1h ohne Pause\n\nViel Spas
 s wünscht Gratis-in-Berlin\n\nLink zum Tip: \nZu den Gratis-in-Berlin Angeboten
 : http://www.gratis-in-berlin.de\n
DTSTART;VALUE=DATE:20260513
DTEND;VALUE=DATE:20260514
SUMMARY:Symphony Concert 11 - Stetson University Symphony Orchestra
END:VEVENT
END:VCALENDAR
