BEGIN:VCALENDAR
VERSION:2.0
PRODID:-//Gratis-in-Berlin//NONSGML kigkonsult.se iCalcreator 2.14//
METHOD:PUBLISH
X-WR-CALNAME:Gratis-in-Berlin Tip Kalender
X-WR-CALDESC:Erhalte Gratis-in-Berlin Tips in deinem Kalender
BEGIN:VEVENT
UID:20260421T120445UTC-51628dv1rE@Gratis-in-Berlin
DTSTAMP:20260421T120445Z
DESCRIPTION:Klavierabend im Buddhistischen Tor Berlin mit Arghavan Sadeghip
 our am 2. Mai 2026 um 19:30 UhrProgramm: Bach\, Partita Nr. 6\, BWV 830 Ja
 ná?ek\, Sonate 1\, X. 1905 Chopin\, Polonaise-FantaisieDer Eintritt frei und
  Spenden sind erbeten. Eine Voranmeldung ist nicht nötig.Die deutsch-persisch
 e Pianistin Arghavan Sadeghipour ist für ihre interpretatorische Tiefe und künstleri
 sche Sensibilität anerkannt. Sie absolvierte ihr Artist Diploma an der Baren
 boim-Said Akademie bei Sir András Schiff und ihren Master an der HfMT Hambur
 g bei Aleksandar Madzar. Als Solistin und Kammermusikerin konzertiert sie 
 regelmäßig in Deutschland\, Frankreich und Spanien sowie weltweit in renommi
 erten Sälen wie der Salle Cortot\, dem Pierre Boulez Saal und dem Konzerthau
 s Berlin. Sie trat auf internationalen Festivals wie IMS Prussia Cove\, Mu
 sique à Flaine und PianoFest Sint-Niklaas auf. Arghavan lebt in Berlin und u
 nterrichtet neben ihrer Konzerttätigkeit an der Musikschule Béla Bartók.\n\nViel 
 Spass wünscht Gratis-in-Berlin\n\nLink zum Tip: https://www.gratis-in-berlin.de
 /naechste-monat/item/2077630-klavierabend-im-buddhistischen-tor\nZu den Gr
 atis-in-Berlin Angeboten: http://www.gratis-in-berlin.de\n
DTSTART;VALUE=DATE:20260502
DTEND;VALUE=DATE:20260503
SUMMARY:Klavierabend im Buddhistischen Tor
END:VEVENT
END:VCALENDAR
