BEGIN:VCALENDAR
VERSION:2.0
PRODID:-//Gratis-in-Berlin//NONSGML kigkonsult.se iCalcreator 2.14//
METHOD:PUBLISH
X-WR-CALNAME:Gratis-in-Berlin Tip Kalender
X-WR-CALDESC:Erhalte Gratis-in-Berlin Tips in deinem Kalender
BEGIN:VEVENT
UID:20260420T133229UTC-9076J52DcS@Gratis-in-Berlin
DTSTAMP:20260420T133229Z
DESCRIPTION:In ihrem neuen Projekt lassen drei Ausnahmemusiker musikalische
  Ideen zu Konzeptstrukturen reifen\, die wie alle Konzepte die DNA ihrer Z
 ukunft in sich tragen\, miteinander musizierend\, lassen sie sich als narr
 ative Verläufe ihrer Kommunikation wahrnehmen. Geprägt von tiefer Stille und i
 ntensiver emotionaler Resonanz\, führt das Trio Komoll/Fink/Nakajima den Zuhörer m
 etaphorisch durch vergessene Sphären\, wo sie die traditionelle Ästhetik mit 
 den intellektuellen und mystischen Elementen verschmelzen. Die Stücke laden das
  Publikum in Dimensionen ein\, in der Musik über bloße Audition hinaus geht und 
 das eigene Wesen berührt\, um gefühlt und gelebt zu werden.Johannes Fink stammt aus 
 einer Musikerfamilie über mehrere Generationen. Nachdem er die Instrumente Klav
 ier\, Schlagzeug\, Gitarre und Kontrabass ausübte\, überschreitet er mittlerweile ge
 rne mit dem Cello\, mit welchem er seinen ganz unverwechselbaren Sound ent
 wickelt hat dogmatische Grenzen. Von Berlin ausgehend musizierte er mit Le
 genden wie Henry Threadgill\, Lee Konitz\, Louis Sclavis\, Tyshawn Sorey u
 nd unendlich vielen weiteren tollen Musikern! Er performt bevorzugt an Ort
 en mit ausgereifter kulinarischer Situation. Seine Kompositionen bereicher
 n seine Projekte\, und er liebt die spontane Improvisation.Shinichi Nakaji
 ma begann während seines Physikstudiums an der Universität\, Jazz in einer Big
  Band zu spielen. Nach seinem Abschluss lernte er Musik und Schlagzeug in 
 Osaka und Tokio und begann\, in Jazzclubs und auf Musikfestivals in Tokio 
 sowie in anderen Städten Japans aufzutreten. Seit 2014 lebt er in Berlin und
  setzt dort seine musikalische Laufbahn fort\, mit Schwerpunkt auf Jazz\, 
 Funk und Latin. Derzeit spielt er regelmäßig bei Lionel Haas 3 (Jazz)\, Rhyt
 hmic Rendezvous (Swing Jazz)\, Juanita Laló &amp\; Friends (Latin)\, Roby Edw
 ards 4 (Jazz)\, Sanra-boshi (Free Jazz) sowie in weiteren Bands und Sessio
 ns in Berlin und anderen Städten.Felix Komoll fand früh Zugang zur Musik. Mit dem
  Klavierspiel begann er im Alter von fünf Jahren\, später kam die Gitarre dazu. E
 r war Meisterschüler von Prof. Siegfried Behrend\, Carlo Domeniconi und Ferenc 
 Snetberger\, und er studierte an der Rubin Academy for Music and Dance in 
 Jerusalem mit dem Hauptfach Jazzgitarre\, und am GIT New York.Als Komponis
 t beschäftigt Felix Komoll sich mit den Schnittstellen von Improvisation und
  komponierter Musik sowie dem kulturellen Erbe unterschiedlicher Stilricht
 ungen\, Epochen und Kulturen. Seine Transkriptionen einzelner Stücke aus Bela B
 artoks Mikrokosmos sowie der Violinsolosonate von Prokoffiew als Adaption 
 für Konzertgitarre erzielten internationale Resonanz. Seine Kompositionen wurde
 n u.a. vom Babylon Orchester aufgeführt.Johannes Fink Cello ElectronicsShinichi
  Nakajima DrumsFelix Komoll Flutes\, Oud\, Guitar\n\nViel Spass wünscht Gratis-
 in-Berlin\n\nLink zum Tip: \nZu den Gratis-in-Berlin Angeboten: http://www
 .gratis-in-berlin.de\n
DTSTART;VALUE=DATE:20260312
DTEND;VALUE=DATE:20260313
SUMMARY:Jazz in der Alten Feuerwache - Komoll/Fink/Nakajima
END:VEVENT
END:VCALENDAR
