BEGIN:VCALENDAR
VERSION:2.0
PRODID:-//Gratis-in-Berlin//NONSGML kigkonsult.se iCalcreator 2.14//
METHOD:PUBLISH
X-WR-CALNAME:Gratis-in-Berlin Tip Kalender
X-WR-CALDESC:Erhalte Gratis-in-Berlin Tips in deinem Kalender
BEGIN:VEVENT
UID:20260421T081158UTC-5133Ab5uE0@Gratis-in-Berlin
DTSTAMP:20260421T081158Z
DESCRIPTION:...eine Konzertreihe der Fachgruppe Tasteninstrumente. SchülerInnen 
 und LehrerInnen der Fachgruppe gestalten das Programm und treten sowohl so
 lo als auch in kammermusikalischen Besetzungen auf. Zu hören gibt es Werke au
 s unterschiedlichen Epochen und Stilen ? von Barock und Klassik über moderne Ko
 mpositionen und Jazz bis hin zu Filmmusik. Das Konzert bietet Einblicke in
  die pädagogische Arbeit der Lehrkräfte sowie in unterschiedliche Spieltechnik
 en und Interpretationsansätze und stellt dabei die Darbietungen von Nachwuch
 s und erfahrenen Lehrkräften in Mittelpunkt. AnTasten lädt dazu ein\, bekannte
  Melodien neu zu entdecken und überraschende Klangfarben zu erleben.Wir freuen 
 uns auf zahlreiche Zuhörerinnen und Zuhörer und einen lebendigen musikalischen N
 achmittag. Die Konzertreihe findet zwei Mal jährlich statt.\n\nViel Spass wünscht
  Gratis-in-Berlin\n\nLink zum Tip: https://www.gratis-in-berlin.de/dauerbr
 enner/22-musik/2077767-antasten\nZu den Gratis-in-Berlin Angeboten: http:/
 /www.gratis-in-berlin.de\n
DTSTART;VALUE=DATE:20260426
DTEND;VALUE=DATE:20260427
SUMMARY:AnTasten
END:VEVENT
END:VCALENDAR
