BEGIN:VCALENDAR
VERSION:2.0
PRODID:-//Gratis-in-Berlin//NONSGML kigkonsult.se iCalcreator 2.14//
METHOD:PUBLISH
X-WR-CALNAME:Gratis-in-Berlin Tip Kalender
X-WR-CALDESC:Erhalte Gratis-in-Berlin Tips in deinem Kalender
BEGIN:VEVENT
UID:20260419T215436UTC-7184PFnV7e@Gratis-in-Berlin
DTSTAMP:20260419T215436Z
DESCRIPTION:Die kleinste Band der Welt Tour... Rosenrausch &amp\; Ness sind
  seit Langem echte Geheimtipps in der deutschen Indie-Landschaft. Im April
  2026 stehen sie gemeinsam auf der Bühne und spielen sowohl ihre Solo-Songs als
  auch Songs aus ihrem neuen Bandprojekt ?DUNKELGRAU?. Zwischen schnellem I
 ndie-Rock\, langsamem Indie-Pop und verträumten Soundwelten erwartet dich ei
 n Abend voller schöner Musik.\n\nViel Spass wünscht Gratis-in-Berlin\n\nLink zum T
 ip: \nZu den Gratis-in-Berlin Angeboten: http://www.gratis-in-berlin.de\n
DTSTART;VALUE=DATE:20260419
DTEND;VALUE=DATE:20260420
SUMMARY:'Rosenrausch & Ness = Dunkelgrau' - Konzert im RegenbogenKino
END:VEVENT
END:VCALENDAR
