BEGIN:VCALENDAR
VERSION:2.0
PRODID:-//Gratis-in-Berlin//NONSGML kigkonsult.se iCalcreator 2.14//
METHOD:PUBLISH
X-WR-CALNAME:Gratis-in-Berlin Tip Kalender
X-WR-CALDESC:Erhalte Gratis-in-Berlin Tips in deinem Kalender
BEGIN:VEVENT
UID:20260421T133750UTC-4489dedZ64@Gratis-in-Berlin
DTSTAMP:20260421T133750Z
DESCRIPTION:Roman Stolbov und Daniel Grunski verbinden in ihrem Konzert im 
 Salon der Ulme35 Barockmusik mit moderner und zeitgenössischer Musik. Werke v
 on Johann Sebastian Bach und Jean-Philippe Rameau treffen auf mitreißende m
 oderne Stücke von Jürgen Ganzer\, Georg Katzer\, Jukka Tiensuu und Alexander Timoshe
 nko. Der Abend zeigt die große stilistische Vielfalt des Akkordeons ? von b
 arocker Tanzsuite und Passacaglia bis zu virtuosen Fantasien und farbenrei
 chen Konzertstücken.Einlass: ab 18:30 Uhr ? Anmeldung nicht erforderlichEine Ve
 ranstaltung in Kooperation mit ArtSalon.\n\nViel Spass wünscht Gratis-in-Berlin
 \n\nLink zum Tip: \nZu den Gratis-in-Berlin Angeboten: http://www.gratis-i
 n-berlin.de\n
DTSTART;VALUE=DATE:20260424
DTEND;VALUE=DATE:20260425
SUMMARY:»Akkordeonmusik mit Roman Stolbov & Daniel Grunski« ? Salonkonzert
END:VEVENT
END:VCALENDAR
