BEGIN:VCALENDAR
VERSION:2.0
PRODID:-//Gratis-in-Berlin//NONSGML kigkonsult.se iCalcreator 2.14//
METHOD:PUBLISH
X-WR-CALNAME:Gratis-in-Berlin Tip Kalender
X-WR-CALDESC:Erhalte Gratis-in-Berlin Tips in deinem Kalender
BEGIN:VEVENT
UID:20260421T090934UTC-9448GDh0oI@Gratis-in-Berlin
DTSTAMP:20260421T090934Z
DESCRIPTION:Einfach gemeinsam singen ? ein Musik-Workshop mit dem Generatio
 nen-Chor FröSi.FröSi ist ein inklusiver Chor. Hier kann jeder Mensch mitmachen.D
 u hast Lust zu singen? Du brauchst keine Vorkenntnisse.Wichtig ist das gem
 einsame Singen. Nicht\, wie gut jemand singt.Komm zum Workshop und probier
  es aus.Wir singen viele bekannte Lieder.ab 16:30 Uhr Ankommen17 bis 19 Uh
 r gemeinsames Singenbis 19:30 Uhr AusklangAlle Menschen ? egal ob mit oder
  ohne Behinderung\, egal welcher Herkunft ? sind herzlich willkommen.Eine 
 Rampe und ein barrierefreies WC sind vorhanden.Eine Kooperation mit Handic
 lapped ? Kultur Barrierefrei e.V. und RBO Inmitten gGmbH.Projekt von Handi
 clapped e.V.\, gefördert von Aktion Mensch und Der Paritätische Berlin.13. Mai 
 2026 // 17-19 Uhr- WerkRaum der Bezirkszentralbibliothek Pablo Neruda- Ein
 tritt frei- Voranmeldung unter diesem Link (https://pretix.eu/bibxhain/ink
 lusiv/) oder unter (030) 90 298 57 49 (Anrufbeantworter)\n\nViel Spass wünscht 
 Gratis-in-Berlin\n\nLink zum Tip: \nZu den Gratis-in-Berlin Angeboten: htt
 p://www.gratis-in-berlin.de\n
DTSTART;VALUE=DATE:20260513
DTEND;VALUE=DATE:20260514
SUMMARY:Inklusion im Takt - Einfach gemeinsam singen!
END:VEVENT
END:VCALENDAR
