BEGIN:VCALENDAR
VERSION:2.0
PRODID:-//Gratis-in-Berlin//NONSGML kigkonsult.se iCalcreator 2.14//
METHOD:PUBLISH
X-WR-CALNAME:Gratis-in-Berlin Tip Kalender
X-WR-CALDESC:Erhalte Gratis-in-Berlin Tips in deinem Kalender
BEGIN:VEVENT
UID:20260423T102131UTC-2646fFUvs3@Gratis-in-Berlin
DTSTAMP:20260423T102131Z
DESCRIPTION:Sonntag\, 03.05.2026 | Einlass: 19:00\, Beginn: 19:30 | Regenbo
 genKinoEleven onzelf?ELEVEN onzelf is jazz that blends naturally with othe
 r genres. Sure\, it?s jazz\, but there?s soul in it. And funk\, lots of fu
 nk.?The Berlin based band started in 2020 as an acoustic song project to d
 evelop an electric\, crisp sound\, which continues to define them today.Lo
 ok forward to expressive and original music characterized by unique songwr
 iting\, complex sounds\, and energetic grooves. Nora Jim ? keys\, vocalsSe
 bastián Rosales Morandé ? drumsYonatan Harari ? bass MoonblindCombining elemen
 ts of jazz\, soul\, R&amp\;B and electronic music. With their own songs an
 d a unique style characterized by groove\, energy and feeling\, they creat
 e a captivating mix of creative sounds and spontaneous improvisation.Vocal
 s: Virginia Ramirez.Keys: Martin Brandt.Guitar: Pip van Eeden.Sax: Chris L
 iedl.Bass: Rayk Kozian.Drums: Esteban RuizEintritt frei\, Spenden erbeten
 \n\nViel Spass wünscht Gratis-in-Berlin\n\nLink zum Tip: \nZu den Gratis-in-Ber
 lin Angeboten: http://www.gratis-in-berlin.de\n
DTSTART;VALUE=DATE:20260503
DTEND;VALUE=DATE:20260504
SUMMARY:Jazz-Konzert: Eleven onzelf und Moonblind
END:VEVENT
END:VCALENDAR
