BEGIN:VCALENDAR
VERSION:2.0
PRODID:-//Gratis-in-Berlin//NONSGML kigkonsult.se iCalcreator 2.14//
METHOD:PUBLISH
X-WR-CALNAME:Gratis-in-Berlin Tip Kalender
X-WR-CALDESC:Erhalte Gratis-in-Berlin Tips in deinem Kalender
BEGIN:VEVENT
UID:20260421T120208UTC-7603v9srG3@Gratis-in-Berlin
DTSTAMP:20260421T120208Z
DESCRIPTION:ZWEI ARTISTS\, VIER TRACKS\, EIN DIALOGIn der von Pitchtuner in
 itiierten Reihe ?Split Single Mates? treffen unterschiedliche musikalische
  Welten aufeinander. Neben je einem Originaltrack pro Act entstehen zwei w
 eitere Stücke ? Spiegelungen\, Transformationen\, Neuinterpretationen.Songs wec
 hseln ihre Identität\, tauchen ein in fremde Klangsprachen und erscheinen in
  neuem Licht. Ein Spiel mit Perspektiven\, das Grenzen zwischen Genres auf
 löst und Vielfalt hörbar macht.Die ersten beiden Singles sind ?Ghostrider? von K
 itty Solaris und ?All Night Long? von Pitchtuner.KITTY SOLARIS\, die ?heim
 liche Indiequeen Berlins?\, hat 2024 ihr neuntes Album ?James Bond? [1] (S
 olaris Empire) veröffentlicht\, das mit Lob nur so überschüttet wurde\, u.a. von Rollin
 g Stone\, Kulturnews\, Musikexpress\, Westzeit\, Laut.de\, Bedroomdisco.?J
 ames Bond? war ?Album der Woche? bei u.a. Byte FM und Deutschlandfunk Kult
 ur und hatte mit dem tollen dreampoppigen Tieteltrack einen kleinen Radioh
 it.Das neue Vinyl Album ?Modern Mantra? ist bereits exklusiv über die GHOST PAL
 ACE ARTIST SOCIETY erhältlich.https://ghostpalacerecords.com/about-us/g-p-a-
 sPITCHTUNER steht für die perfekt auf den Menschen abgestimmte Maschine.Seit ih
 rer Gründung im Jahr 2001 bewegt sich die Band zwischen elektronischer Musik un
 d Indie-Funk. Modifizierte und neu zusammengesetzte Maschinen gehörten von An
 fang an zum festen Bestandteil ihrer Live-Auftritte in Europa\, Asien und 
 Nordamerika. Die Entwicklung eigener Instrumente ist seit jeher ein zentra
 les Element ihres kreativen Prozesses.Johannes Marx\, Mastermind hinter Pi
 tchtuner\, baut mittlerweile unter dem Label MARX INSTRUMENTS auch individ
 uelle Instrumente für andere Künstler:innen.Die neueste Innovation: Die Human Beat M
 achine (HBM) ? ein hybrides Konstrukt aus DIY-Sequenzern und Controllern\,
  das es auch Laien ermöglicht\, die Magie des gemeinsamen Musizierens zu erle
 ben.Denn was verbindet Menschen mehr als Musik? Im Rahmen dieser Performan
 ce wird die HBM vor allem für eigens komponierte neue Stücke eingesetzt. Es dürfen einige
  Premieren erwartet werden.www.johannesmarx.comwww.humanbeatmachine.comwww
 .MARXcollective.com&nbsp\;\n\nViel Spass wünscht Gratis-in-Berlin\n\nLink zum T
 ip: \nZu den Gratis-in-Berlin Angeboten: http://www.gratis-in-berlin.de\n
DTSTART;VALUE=DATE:20260502
DTEND;VALUE=DATE:20260503
SUMMARY:'Kitty Solaris + Pitchtuner // Split Single Mates Release Party' - 
 im RegenbogenKino
END:VEVENT
END:VCALENDAR
