BEGIN:VCALENDAR
VERSION:2.0
PRODID:-//Gratis-in-Berlin//NONSGML kigkonsult.se iCalcreator 2.14//
METHOD:PUBLISH
X-WR-CALNAME:Gratis-in-Berlin Tip Kalender
X-WR-CALDESC:Erhalte Gratis-in-Berlin Tips in deinem Kalender
BEGIN:VEVENT
UID:20260421T090932UTC-8609pdMcWD@Gratis-in-Berlin
DTSTAMP:20260421T090932Z
DESCRIPTION:Einlass 19:00\, Beginn 19:30WrackspurtsJa\, die sind nur zu zwe
 it. Ja\, das erinnert dich an die 90er. Und ja\, die Musik\, die die spiel
 en\, geht unter die Haut.Wrackspurts kommen aus Leipzig und machen Punk\, 
 Sadcore\, Grunge mit viel Idealismus. Immer zerbrechlich\, aber gleichzeit
 ig auch immer mutig\, antifaschistisch und gegen den Trott ? in der Welt u
 nd im Kopf.OPTION WEGWir machen Musik zwischen den Zeilen und zwar mit Bas
 s\, Schlagzeug\, Gitarre\, Geige\, Quetsche\, unseren Stimmen und Gedanken
 .Das klingt hin und wieder tief und wetterfest\, oft aber auch nach Punkro
 ck\, Waldameise und Tanzbein.Der Soundtrack für einen Tag\, der noch kommt. Wir
  selbst kommen aus Berlin und außerdem aus allen Bereichen der linken Subku
 ltur. Ohne Spaß geht gar nichts ? ohne Hirn auch nicht. Mehr Infos:https://
 www.option-weg.net\n\n\nViel Spass wünscht Gratis-in-Berlin\n\nLink zum Tip: \n
 Zu den Gratis-in-Berlin Angeboten: http://www.gratis-in-berlin.de\n
DTSTART;VALUE=DATE:20260424
DTEND;VALUE=DATE:20260425
SUMMARY:'Option Weg und Wrackspurts' - Konzert im RegenbogenKino
END:VEVENT
END:VCALENDAR
