BEGIN:VCALENDAR
VERSION:2.0
PRODID:-//Gratis-in-Berlin//NONSGML kigkonsult.se iCalcreator 2.14//
METHOD:PUBLISH
X-WR-CALNAME:Gratis-in-Berlin Tip Kalender
X-WR-CALDESC:Erhalte Gratis-in-Berlin Tips in deinem Kalender
BEGIN:VEVENT
UID:20260421T133750UTC-0802vhokaX@Gratis-in-Berlin
DTSTAMP:20260421T133750Z
DESCRIPTION:Musik für 7 Flügel von Mathias Spahlinger und an 7 Flügeln von Frédéric Chopin.M
 athias Spahlinger: Farben der FrüheFrédéric Chopin: 24 Préludes op. 28Eunhee Baek\,
  Çya Bazzaz\, Yan Cai\, Juae Ha\, Björn Lehmann\, Sabine Simon\, Yen-Ni Wu\, K
 lavier / Studierende und Lehrende der UdK Berlin / Kentaro Machida\, Leitu
 ngDas Bedürfnis\, ?einmal nur die dezentere buntheit der schwarz/weiß/grau-tönungen
  zuzulassen? ist der Ausgangspunkt Mathias Spahlingers für seine Komposition Fa
 rben der Frühe für 7 Klaviere. 7 Klaviere\, fächerförmig aufgestellt ? 7 x 88 = 616 
 Tasten: eine Besetzung\, die ihresgleichen sucht ? in der Tat eine scheinb
 ar einheitliche Klangfarbenlandschaft. Die Vielfalt der Charaktere\, der P
 rozesse und damit der klanglichen Erscheinungsformen der 6 Sätze ist aber fr
 appierend: Von zersplitterten Einzelimpulsen\, komplex orchestrierten Quas
 i-Unisoni\, die sich von links nach rechts im Raum bewegen über Resonanz- und K
 langflächen bis hin zu massivem Tutti und plötzlichen Eruptionen reicht die Kla
 ngpalette.Die Hörgewohnheiten des Publikums werden auf spannende Weise getest
 et und herausgefordert - belohnt wird es durch eine völlig ungeahnte Fülle an Farb
 en und Formen\, die unsere Wahrnehmung und damit unser Denken und Fühlen veränder
 n kann.?Chopins Werke sind unter Blumen eingesenkte Kanonen.? So schrieb e
 s Robert Schumann 1831 in der Allgemeinen musikalischen Zeitung über seinen Zei
 tgenossen. Die revolutionäre Kraft\, die aus Chopins Musik hervorgeht\, ist 
 oftmals erst beim genaueren Hören auszumachen. Viele Stücke des Komponisten bezieh
 en sich auf den Widerstand gegen fremde Herrschaft und können als Symbol der 
 polnischen Nationalbewegung gelesen werden. An diesem Abend erklingt mit d
 en 24 Préludes Musik\, die in komprimiertester\, feinster\, poetischster Ges
 talt auftritt und doch im Innersten eine Kraft birgt\, die weit über das schein
 bar Fragile hinausgeht und die die Musik oftmals bis zum Zerreißen spannt. 
 Die räumliche Auffächerung im Saal auf 7 Flügel bringt die unterschiedlichen Charak
 teristika der 24 Tonarten stärker in das Bewusstsein und zeigt die Friktione
 n und Brüche des Zyklus?\, generiert aber auch Verbindungen über die benachbarten Pr
 éludes hinaus und schafft eine mögliche Lesart des Gesamtzyklus?\, die dessen K
 onflikthaftigkeit hervorhebt. Blumen\, ja. Aber mit Zündladung.Wir danken der C
 . Bechstein Pianoforte GmbH herzlich für die großzügige Unterstützung unseres Konzerts dur
 ch die Bereitstellung von drei Flügeln.Die Ticketbuchungen werden ab dem 15. Ap
 ril freigeschaltet. crescendo ist für alle offen! Der Eintritt ist frei. Wir em
 pfehlen eine vorherige Ticketbuchung über diesen Link: https://pretix.eu/udk/cr
 escendo26/4890137/\n\nViel Spass wünscht Gratis-in-Berlin\n\nLink zum Tip: \nZu
  den Gratis-in-Berlin Angeboten: http://www.gratis-in-berlin.de\n
DTSTART;VALUE=DATE:20260601
DTEND;VALUE=DATE:20260602
SUMMARY:Gegen-Strebiges ? ?Unter Blumen eingesenkte Kanonen? ? crescendo26
END:VEVENT
END:VCALENDAR
