BEGIN:VCALENDAR
VERSION:2.0
PRODID:-//Gratis-in-Berlin//NONSGML kigkonsult.se iCalcreator 2.14//
METHOD:PUBLISH
X-WR-CALNAME:Gratis-in-Berlin Tip Kalender
X-WR-CALDESC:Erhalte Gratis-in-Berlin Tips in deinem Kalender
BEGIN:VEVENT
UID:20260421T120153UTC-9645LZUdIX@Gratis-in-Berlin
DTSTAMP:20260421T120153Z
DESCRIPTION:Fast jede Tür klingt\, fast jedes Glas kann Töne erzeugen\, selbst Küchenrol
 len tönen...Diese Gedankenreihe ist uferlos dehnbar. Einen kleinen Eindruck v
 on überraschenden Klängen der Gegenstände erhält man hier. Ein Besuch eines Konzertes
  wirkt sensibilisierend und Sinne schärfend.Durch abwechslungsreiche Moderat
 ion\, Mitmachaktionen und Ratespiele wird das Konzert zu einem kurzweilige
 n lehrreichen Vergnügen.Schüler*innen der Musikschule Paul Hindemith Neukölln / Studier
 ende der UdK Berlin und Gäste / Marieke Rügert\, Leitung und ModerationDie Ticket
 buchungen werden ab dem 15. April freigeschaltet.crescendo ist für alle offen!D
 er Eintritt ist frei.Wir empfehlen eine vorherige Ticketbuchung über diesen Lin
 k:9 Uhr: https://pretix.eu/udk/crescendo26/4889582/\n\nViel Spass wünscht Grati
 s-in-Berlin\n\nLink zum Tip: \nZu den Gratis-in-Berlin Angeboten: http://w
 ww.gratis-in-berlin.de\n
DTSTART;VALUE=DATE:20260603
DTEND;VALUE=DATE:20260604
SUMMARY:Vom Klang der Gegenstände ? wie Dinge klingen ? crescendino
END:VEVENT
END:VCALENDAR
