BEGIN:VCALENDAR
VERSION:2.0
PRODID:-//Gratis-in-Berlin//NONSGML kigkonsult.se iCalcreator 2.14//
METHOD:PUBLISH
X-WR-CALNAME:Gratis-in-Berlin Tip Kalender
X-WR-CALDESC:Erhalte Gratis-in-Berlin Tips in deinem Kalender
BEGIN:VEVENT
UID:20260421T074236UTC-43919DdMm9@Gratis-in-Berlin
DTSTAMP:20260421T074236Z
DESCRIPTION:Zum Abschied als Professor an der UdK Berlin nach 23 Jahren präse
 ntiert Axel Bauni im Gespräch mit Prof. Dörte Schmidt das umfassende Thema des 
 zeitgenössischen Liedes\, berichtete aus seiner Zeit an der Hochschule und läss
 t sicher auch die Nähe zu aktuellen gesellschaftlichen Diskussionen durchsch
 einen.Lieder von Arnold Schönberg\, Hanns Eisler\, Paul Dessau\, Ursula Mamlo
 k\, Viktor Ullmann\, Aribert Reimann\, Dmitri Schostakowitsch und Steffen 
 SchleiermacherStudierende der Klasse ?Das Zeitgenössische Lied? / Im Gespräch: 
 Prof. Dörte Schmidt und Prof. Axel BauniMit der Verwendung von Text kann jede
  Komposition an konkreter Aussage gewinnen. Je komplexer die Zeiten\, dest
 o mehr kann das auch in den ausgewählten und vertonten Worten seinen Nieders
 chlag finden. Die Musiker*innen des Abends stellen zahlreiche Lieder vor\,
  an denen sich auch Zeitläufe der brutalen letzten 100 Jahre heraushören lassen
  ? u. a. mit Paul Dessaus Vertonung von Pablo Nerudas Gedicht ?Yo recuerdo
 ?: ?Ich bezeuge! Ich war dort ? ich litt\, und halte mein Zeugnis aufrecht
  ? sollte es auch niemanden geben\, der sich erinnert.? sowie Kompositione
 n von Viktor Ullmann\, der 1944 in Auschwitz ermordet wurde.Die Ticketbuch
 ungen werden ab dem 15. April freigeschaltet.crescendo ist für alle offen!Der E
 intritt ist frei.Wir empfehlen eine vorherige Ticketbuchung über diesen Link: h
 ttps://pretix.eu/udk/crescendo26/4889567/\n\nViel Spass wünscht Gratis-in-Berli
 n\n\nLink zum Tip: \nZu den Gratis-in-Berlin Angeboten: http://www.gratis-
 in-berlin.de\n
DTSTART;VALUE=DATE:20260603
DTEND;VALUE=DATE:20260604
SUMMARY:?Ich bezeuge! Ich war dort\, ich litt\, und halte mein Zeugnis aufr
 echt? ? crescendo26
END:VEVENT
END:VCALENDAR
