BEGIN:VCALENDAR
VERSION:2.0
PRODID:-//Gratis-in-Berlin//NONSGML kigkonsult.se iCalcreator 2.14//
METHOD:PUBLISH
X-WR-CALNAME:Gratis-in-Berlin Tip Kalender
X-WR-CALDESC:Erhalte Gratis-in-Berlin Tips in deinem Kalender
BEGIN:VEVENT
UID:20260423T101528UTC-8247uaB1RV@Gratis-in-Berlin
DTSTAMP:20260423T101528Z
DESCRIPTION:Ein Festkonzert zum 200. Todestag von Carl Maria von WeberCarl 
 Maria von Weber: Der erste Ton\; In seiner Ordnung schafft der Herr\; Der 
 Beherrscher der Geister: Ouvertüre &amp\; Geisterchor aus ?Rübezahl?\; Suite aus ?De
 r Freischütz?Jani Christou: Tongues of FireHarald Muenz: des volkes weise. ein 
 spottchor.Hanna Herfurtner\, Sopran / Martha Sotiriou\, Mezzosopran / Andr
 ás Adamik\, Tenor / Nikolay Borchev\, Bariton / Sing-Akademie zu Berlin / St
 aats- und Domchor Berlin / KammersymphonieBerlin / Kai-Uwe Jirka\, Leitung
 An seinem 200. Todestag beschwören die Sing-Akademie und die Herren des Staat
 s- und Domchores Carl Maria von Webers romantische Geistersphären. Was erzähle
 n die Höllenvisionen aus Biedermeierminiaturen über unsere Gegenwart mit ihren gei
 sterhaften Maschinen und Wiedergängern totgeglaubter Ideologien? Auf dem Pro
 gramm stehen Ouvertüren\, Arien und unbekannte Chöre des ?Vaters der romantischen 
 Schule?\, beantwortet von modernen und zeitgenössischen Geistermusiken von Ja
 ni Christou\, Harald Muenz u. a.Die Ticketbuchungen werden ab dem 15. Apri
 l freigeschaltet.crescendo ist für alle offen!Der Eintritt ist frei.Wir empfehl
 en eine vorherige Ticketbuchung über diesen Link: https://pretix.eu/udk/crescen
 do26/4889568/\n\nViel Spass wünscht Gratis-in-Berlin\n\nLink zum Tip: https://w
 ww.gratis-in-berlin.de/musik/item/2078266-geistertoene-gegenwelten-crescen
 do26\nZu den Gratis-in-Berlin Angeboten: http://www.gratis-in-berlin.de\n
DTSTART;VALUE=DATE:20260605
DTEND;VALUE=DATE:20260606
SUMMARY:Geistertöne / Gegenwelten ? crescendo26
END:VEVENT
END:VCALENDAR
