BEGIN:VCALENDAR
VERSION:2.0
PRODID:-//Gratis-in-Berlin//NONSGML kigkonsult.se iCalcreator 2.14//
METHOD:PUBLISH
X-WR-CALNAME:Gratis-in-Berlin Tip Kalender
X-WR-CALDESC:Erhalte Gratis-in-Berlin Tips in deinem Kalender
BEGIN:VEVENT
UID:20260421T090934UTC-0060ItPvuJ@Gratis-in-Berlin
DTSTAMP:20260421T090934Z
DESCRIPTION:Freuen Sie sich auf ein abwechslungsreiches und ausgezeichnetes
  Programm für Klavier\, Streichquartett\, Holz- und Blechblasquintett\, moderie
 rt vom Pianisten und ?Piano Battle?-Erfinder Andreas Kern.Dmitri Schostako
 witsch: 3 Präludien op. 34\; Sonate Nr. 1 op. 12Clara Schumann: Scherzo Nr. 
 2 c-Moll op. 14Robert Schumann: Drei Fantasiestücke op. 111Stephen Montague: Th
 ule UltimaAmy Beach: Pastorale op. 151Witold Lutos?awski: Mini OvertureW?a
 dys?aw Szpilman: Suite ?The Life of Machines?Ludwig van Beethoven: Fantasi
 e g-Moll op. 77Fanny Hensel: Streichquartett Es-Dur | Paul Hindemith: Klei
 ne Kammermusik op. 24 Nr. 25um3 / Berliner Luftblech / Saho Akiyama\, Shio
 n Ota\, Caitlan Rinaldy\, Tabea Streicher\, Klavier / Varyon Quartett / An
 dreas Kern\, ModerationBei berlinweiten\, nationalen und internationalen W
 ettbewerben sind die Studierenden der UdK Berlin regelmäßig überaus erfolgreich u
 nd kommen vielfach prämiert zurück an die Hochschule. Es ist uns eine große Freude
 \, einige der Preisträger*innen der vergangenen Monate zu präsentieren. Dabei 
 sind 1.\, 2. und 3. Preisträger*innen des Felix Mendelssohn Bartholdy Hochsc
 hulwettbewerbs\, des Samter-Kammermusikwettbewerbs und des Schnabel-Klavie
 rwettbewerbs vertreten.Die Ticketbuchungen werden ab dem 15. April freiges
 chaltet.crescendo ist für alle offen!Der Eintritt ist frei.Wir empfehlen eine v
 orherige Ticketbuchung über diesen Link: https://pretix.eu/udk/crescendo26/4889
 570/\n\nViel Spass wünscht Gratis-in-Berlin\n\nLink zum Tip: \nZu den Gratis-in
 -Berlin Angeboten: http://www.gratis-in-berlin.de\n
DTSTART;VALUE=DATE:20260606
DTEND;VALUE=DATE:20260607
SUMMARY:Ausgezeichnet! Dissonanz und Konsonanz mit unseren Preisträger*innen 
 ? crescendo26
END:VEVENT
END:VCALENDAR
