BEGIN:VCALENDAR
VERSION:2.0
PRODID:-//Gratis-in-Berlin//NONSGML kigkonsult.se iCalcreator 2.14//
METHOD:PUBLISH
X-WR-CALNAME:Gratis-in-Berlin Tip Kalender
X-WR-CALDESC:Erhalte Gratis-in-Berlin Tips in deinem Kalender
BEGIN:VEVENT
UID:20260421T120156UTC-3326rUk3G9@Gratis-in-Berlin
DTSTAMP:20260421T120156Z
DESCRIPTION:Wir\, Wings of Joy aus Berlin-Wilmersdorf\, sind ein Chor beste
 hend aus22 Sängerinnen und Sängern\, der seit einem Vierteljahrhundert mit Gos
 pelmusik begeistert. Unter der musikalischen Leitung von Otmar Bergler sin
 d wir zu einer festen Größe in der Berliner Chorszene geworden.Wir feiern den
  Frühling ? und das mit kraftvollen Stimmen\, lebendigen Rhythmen und viel Herz
 . Freuen Sie sich auf eine mitreißende Mischung aus Gospelklassikern\, Spir
 ituals und Modern Gospel ? vieles davon präsentieren wir a cappella.Ein Aben
 d voller Klang\, Wärme und Lebensfreude im Wonnemonat Mai. Der Eintritt ist 
 frei. Wir freuen uns über eine Spende am Ausgang.30.05.2026 um 18 Uhr (Einlass 
 17:30 Uhr)Friedenskirche\, Bismarckstr. 40\, 10627 Berlin\n\nViel Spass wünscht
  Gratis-in-Berlin\n\nLink zum Tip: \nZu den Gratis-in-Berlin Angeboten: ht
 tp://www.gratis-in-berlin.de\n
DTSTART;VALUE=DATE:20260530
DTEND;VALUE=DATE:20260531
SUMMARY:'Sing and Shout' Frühlingskonzert mit Wings of Joy
END:VEVENT
END:VCALENDAR
