BEGIN:VCALENDAR
VERSION:2.0
PRODID:-//Gratis-in-Berlin//NONSGML kigkonsult.se iCalcreator 2.14//
METHOD:PUBLISH
X-WR-CALNAME:Gratis-in-Berlin Tip Kalender
X-WR-CALDESC:Erhalte Gratis-in-Berlin Tips in deinem Kalender
BEGIN:VEVENT
UID:20260421T055418UTC-1321AC9nNH@Gratis-in-Berlin
DTSTAMP:20260421T055418Z
DESCRIPTION:Marin Limi?\, ein Pianist\, Komponist und Pädagoge aus Klis\, Kro
 atien\, jetzt wohnhaft in Berlin\, Deutschland\, hat eine bemerkenswerte K
 arriere mit zahlreichen Auszeichnungen und Auftritten hinter sich. Ausgebi
 ldet in Split und Köln\, gewann er den ersten Preis beim kroatischen National
 wettbewerb für Studenten und erhielt Anerkennung für seine Komposition Tokata\, op. 
 33. Limi? hat sowohl solo als auch mit renommierten Orchestern umfangreich
  konzertiert. Zu seinen bemerkenswerten Werken gehören die CDs Skladbe za kla
 vir und Klarin Film. 2020 erhielt er das Künstlerstipendium des Landes Nordrhei
 n-Westfalen und 2023 das ?NeuStart Kultur'-Stipendium des Deutschen Musikr
 ats. Seine internationalen Tourneen umfassen China und verschiedene europäis
 che Länder.Auf dem Programm: Bach\, Chopin\, Papandopulo\, Limi? sowie eigen
 e Klavierbearbeitungen (Van Buuren\, Ayla\, Deadmau5\, Garrix...)\n\nViel 
 Spass wünscht Gratis-in-Berlin\n\nLink zum Tip: https://www.gratis-in-berlin.de
 /musik/item/2078396-von-klassik-bis-trance\nZu den Gratis-in-Berlin Angebo
 ten: http://www.gratis-in-berlin.de\n
DTSTART;VALUE=DATE:20260606
DTEND;VALUE=DATE:20260607
SUMMARY:Marin Limi?\, piano - Von Klassik bis Trance
END:VEVENT
END:VCALENDAR
