BEGIN:VCALENDAR
VERSION:2.0
PRODID:-//Gratis-in-Berlin//NONSGML kigkonsult.se iCalcreator 2.14//
METHOD:PUBLISH
X-WR-CALNAME:Gratis-in-Berlin Tip Kalender
X-WR-CALDESC:Erhalte Gratis-in-Berlin Tips in deinem Kalender
BEGIN:VEVENT
UID:20260421T151507UTC-6985BscHwm@Gratis-in-Berlin
DTSTAMP:20260421T151507Z
DESCRIPTION:Einlass 19:00\, Beginn 19:30CANOLACanola ist eine Progressive R
 ock Band aus Berlin.In den Songs der Band treffen komplexe Strukturen\, in
  denen schwere Gitarrenriffs kunstvoll mit vertrackten Melodien verwoben w
 erden\, auf nachdenkliche deutsche Texte.Die Band besteht aus Tobias (Gita
 rre\, Gesang)\, Markus (Bass) und Birk (Schlagzeug).Im Sommer 2019 legte d
 as Trio seine erste in Eigenregie produzierte EP ?Zweifel? vor. Ein erstes
  Album ist aktuell in Arbeit und soll 2026 erscheinen. REPLICATWas passier
 t\, wenn man einen singenden Theaterschauspieler\, einen trommelnden Biote
 ch-Ingenieur\, einen Bass-spielenden Programmierer mit Abneigung gegen 4/4
  Takte und Deutschlands meistgesehenen Youtube-Gitarristen in eine Band st
 eckt...? REPLICAT aus Berlin ? Harter Rock mit schwerem Bass\, schrägen Takt
 en\, sphärischen Gitarren und schönem Gesang.\n\nViel Spass wünscht Gratis-in-Berlin
 \n\nLink zum Tip: \nZu den Gratis-in-Berlin Angeboten: http://www.gratis-i
 n-berlin.de\n
DTSTART;VALUE=DATE:20260508
DTEND;VALUE=DATE:20260509
SUMMARY:'Canola & Replicat' // Prog-Rock Konzert im RegenbogenKino
END:VEVENT
END:VCALENDAR
