BEGIN:VCALENDAR
VERSION:2.0
PRODID:-//Gratis-in-Berlin//NONSGML kigkonsult.se iCalcreator 2.14//
METHOD:PUBLISH
X-WR-CALNAME:Gratis-in-Berlin Tip Kalender
X-WR-CALDESC:Erhalte Gratis-in-Berlin Tips in deinem Kalender
BEGIN:VEVENT
UID:20260421T120154UTC-8556bNu8c5@Gratis-in-Berlin
DTSTAMP:20260421T120154Z
DESCRIPTION:Pop-Rock-Soul\n\nViel Spass wünscht Gratis-in-Berlin\n\nLink zum Tip
 : \nZu den Gratis-in-Berlin Angeboten: http://www.gratis-in-berlin.de\n
DTSTART;VALUE=DATE:20260729
DTEND;VALUE=DATE:20260730
SUMMARY:Wild Wednesday w. 'Tales For The Tillerman' (Pop-Rock-Soul/Bln)
END:VEVENT
END:VCALENDAR
