BEGIN:VCALENDAR
VERSION:2.0
PRODID:-//Gratis-in-Berlin//NONSGML kigkonsult.se iCalcreator 2.14//
METHOD:PUBLISH
X-WR-CALNAME:Gratis-in-Berlin Tip Kalender
X-WR-CALDESC:Erhalte Gratis-in-Berlin Tips in deinem Kalender
BEGIN:VEVENT
UID:20260421T120207UTC-19886rtsJW@Gratis-in-Berlin
DTSTAMP:20260421T120207Z
DESCRIPTION:19:30 Uhr: Einlass &amp\; Öffnung der Bar 20 Uhr: PIEKE 21 Uhr: 
 Spacebunny Ninja PIEKE macht antikapitalistischen Industrial Pop/Punk auf 
 deutsch\, beeinflusst von Ton Steine Scherben\, Fiona Apple und Einstürzende Ne
 ubauten. Die Multiinstrumentalistin erschafft zwischen Aktivismus\, Musik 
 und Bildsprache eine eigene utopische und hypnotische Gesamtwelt. 2026 ers
 cheint ihre multimediale Konzept-EP MaschineMaschine. Spacebunny Ninja beg
 eistert mit treibende Beats und Texten\, die immer ein bisschen tiefer geh
 en als kurzfristig vermutet: Die Crowd ist elektrisiert\, wenn sie auf die
  Bühne kommt. Ihr Rap ist unverblümt und empowernd ? oft wütend\, aber nie ohne eine Pris
 e Humor. Spacebunny Ninja ist seit Jahren als Untergrund Rapperin aktiv un
 d mittlerweile ein Must-See in der Szene. Der Eintritt ist frei. Spenden f
 ür die Musiker*innen sind herzlich willkommen.\n\nViel Spass wünscht Gratis-in-Berli
 n\n\nLink zum Tip: \nZu den Gratis-in-Berlin Angeboten: http://www.gratis-
 in-berlin.de\n
DTSTART;VALUE=DATE:20260423
DTEND;VALUE=DATE:20260424
SUMMARY:Kiezkonzert No. 11 // Pieke & Spacebunny Ninja
END:VEVENT
END:VCALENDAR
