BEGIN:VCALENDAR
VERSION:2.0
PRODID:-//Gratis-in-Berlin//NONSGML kigkonsult.se iCalcreator 2.14//
METHOD:PUBLISH
X-WR-CALNAME:Gratis-in-Berlin Tip Kalender
X-WR-CALDESC:Erhalte Gratis-in-Berlin Tips in deinem Kalender
BEGIN:VEVENT
UID:20260419T131933UTC-5125uoLArs@Gratis-in-Berlin
DTSTAMP:20260419T131933Z
DESCRIPTION:Das stARTfestival von Bayer Kultur bringt ein kostenfreies Konz
 ert nach Berlin und öffnet einen&nbsp\;Ort\, der sonst nicht öffentlich zugänglich
  ist. Dere Konzert findet am Bayer-Standort in der Müllerstraße im Wedding statt
 .&nbsp\;Auf der Bühne steht das Duo ?Nesa x Nina?\, bestehend aus der Pianistin
  Nina Gurol und der iranischen Musikproduzentin und Tombak-Spielerin Nesa 
 Azadikhah. In ihren Stücken verbinden sich persische Rhythmen mit Klaviermusik 
 ? mal meditativ\, mal treibend.\n\nViel Spass wünscht Gratis-in-Berlin\n\nLink 
 zum Tip: \nZu den Gratis-in-Berlin Angeboten: http://www.gratis-in-berlin.
 de\n
DTSTART;VALUE=DATE:20260423
DTEND;VALUE=DATE:20260424
SUMMARY:stARTfestival Berlin: ?Nesa x Nina? im Wiener Café
END:VEVENT
END:VCALENDAR
