BEGIN:VCALENDAR
VERSION:2.0
PRODID:-//Gratis-in-Berlin//NONSGML kigkonsult.se iCalcreator 2.14//
METHOD:PUBLISH
X-WR-CALNAME:Gratis-in-Berlin Tip Kalender
X-WR-CALDESC:Erhalte Gratis-in-Berlin Tips in deinem Kalender
BEGIN:VEVENT
UID:20260419T234809UTC-0306FwvgF4@Gratis-in-Berlin
DTSTAMP:20260419T234809Z
DESCRIPTION:Erleben Sie spanische Leidenschaft am 25. April um 20:00 Uhr in
  der Aula des Rosa-Luxemburg-Gymnasiums. Der Bariton Gabriel Urrutia Benet
 \, die Geigerin Irene Gallego und der Pianist stefanpaul präsentieren ein ho
 chkarätiges Programm mit Werken von Ravel\, de Falla sowie Klassikern der Za
 rzuela. Ein musikalisches Highlight voller Temperament!\n\nViel Spass wünscht G
 ratis-in-Berlin\n\nLink zum Tip: https://www.gratis-in-berlin.de/dauerbren
 ner/22-musik/2078471-pasion-espanola-moderiertes-konzert\nZu den Gratis-in
 -Berlin Angeboten: http://www.gratis-in-berlin.de\n
DTSTART;VALUE=DATE:20260425
DTEND;VALUE=DATE:20260426
SUMMARY:Pasión Española: Moderiertes Konzert
END:VEVENT
END:VCALENDAR
