BEGIN:VCALENDAR
VERSION:2.0
PRODID:-//Gratis-in-Berlin//NONSGML kigkonsult.se iCalcreator 2.14//
METHOD:PUBLISH
X-WR-CALNAME:Gratis-in-Berlin Tip Kalender
X-WR-CALDESC:Erhalte Gratis-in-Berlin Tips in deinem Kalender
BEGIN:VEVENT
UID:20260420T005649UTC-6638upT42V@Gratis-in-Berlin
DTSTAMP:20260420T005649Z
DESCRIPTION:Fanfare Gertrudes Brass Odyssey: Drei Tage Brassmusik in Berlin
  Am Pfingstwochenende feiert die Berliner Band Fanfare Gertrude ihr zehnjähr
 iges Bestehen ? mit der Brass Odyssey\, einem dreitägigen Musikwochenende vo
 m 22. bis 24. Mai 2026 in Berlin. Brassbands aus Berlin\, Hamburg\, Leipzi
 g und Frankreich spielen an verschiedenen Orten der Stadt und bringen Rock
 - und Pop-Brassmusik auf die Bühne. Über 100 Musikerinnen und Musiker gestalten 
 ein Wochenende voller Konzerte und gemeinsamer Auftritte. Inspiriert von d
 er Tradition französischer Fanfarenbands trifft energiegeladene Brassmusik au
 f die kreative Verrücktheit Berlins ? drei Tage im Zeichen von Musik\, Tanz und
  Begegnung. Mehr Infos:&nbsp\;fanfaregertrude.de/fete10/\n\nViel Spass wünscht 
 Gratis-in-Berlin\n\nLink zum Tip: \nZu den Gratis-in-Berlin Angeboten: htt
 p://www.gratis-in-berlin.de\n
DTSTART;VALUE=DATE:20260522
DTEND;VALUE=DATE:20260525
SUMMARY:Drei Tage Brassmusik am Pfingstwochenende
END:VEVENT
END:VCALENDAR
