BEGIN:VCALENDAR
VERSION:2.0
PRODID:-//Gratis-in-Berlin//NONSGML kigkonsult.se iCalcreator 2.14//
METHOD:PUBLISH
X-WR-CALNAME:Gratis-in-Berlin Tip Kalender
X-WR-CALDESC:Erhalte Gratis-in-Berlin Tips in deinem Kalender
BEGIN:VEVENT
UID:20260420T141836UTC-9913f7g7fG@Gratis-in-Berlin
DTSTAMP:20260420T141836Z
DESCRIPTION:Acoustic Rock &amp\; Pop live mit der »Big Land« Band im Dreierpa
 ck: Leadsängerin Cashima\, William Goetz (guit/voc) und Mr. Martin (guit/voc
 ) in der '1896' Kiezkneipe in Berlin-Charlottenburg\, Spontan-Programm aus
  100 Nummern nach Lust und Laune - ab 19:00 Uhr\, Eintritt frei\, have a g
 ood time!\n\nViel Spass wünscht Gratis-in-Berlin\n\nLink zum Tip: \nZu den Grat
 is-in-Berlin Angeboten: http://www.gratis-in-berlin.de\n
DTSTART;VALUE=DATE:20260521
DTEND;VALUE=DATE:20260522
SUMMARY:BIG LAND's Acoustic Rock\, Pop\, Country im »1896«
END:VEVENT
END:VCALENDAR
