BEGIN:VCALENDAR
VERSION:2.0
PRODID:-//Gratis-in-Berlin//NONSGML kigkonsult.se iCalcreator 2.14//
METHOD:PUBLISH
X-WR-CALNAME:Gratis-in-Berlin Tip Kalender
X-WR-CALDESC:Erhalte Gratis-in-Berlin Tips in deinem Kalender
BEGIN:VEVENT
UID:20260420T181927UTC-4843rouzGd@Gratis-in-Berlin
DTSTAMP:20260420T181927Z
DESCRIPTION:Ob sie wohl von allen guten Geistern verlassen ist\, die Modera
 torin von ?Jazz in der Feuerwache??Nein\, ganz im Gegenteil! Sie hat ?Ihre
  guten Geister - Her Good Spirits? heute Abend auf der Studiobühne um sich gesc
 hart\, um einen Session-Opener mit ihren Lieblings-Songs auf ihre eigene A
 rt zu gestalten: mit besonderen Intros\, Rhythmus-Wechseln\, Ausflügen in ander
 e Genres jenseits der üblichen Jazz-Standards.Marina Thalke - GesangFelix Mross
  - KlavierJörn Henrich - BassYatziv Caspi - SchlagzeugHarry Ermer - Mundharmo
 nikaDie Moderatorin und Sängerin Marina Thalke begann ihren musikalischen We
 g einst mit dem klassischen Chor-Repertoire. Ihre Begeisterung für den Flamenco
  führte sie alsdann vom Flamenco-Tanz zum Flamenco-Gesang und über lateinamerikanisc
 he Rhythmen zum Jazz\, wo sie schließlich ihre musikalische Heimat fand. Mi
 t Jazz-Standards\, Boleros und Chansons erzählt sie in mehreren Sprachen Ges
 chichten aus aller Frauen Länder.Felix Mross ist klassisch ausgebildeter Pia
 nist mit einem breiten stilistischen Spektrum. Er erhielt mehrere Bundespr
 eise bei ?Jugend musiziert? sowie den WDR-Klassikpreis 2004. Als Solist so
 wie auch als Begleiter trat er u.a. in der renommierten Carnegie Hall in N
 ew York auf. In den letzten Jahren hat er seinen künstlerischen Fokus zunehmend
  auf Jazz und lateinamerikanische Stilrichtungen gelegt.Der Bassist Jörn Henr
 ich spielte zu Schulzeiten in seiner ersten Jazzband und ist seitdem bei d
 er Musik geblieben. Ende der 90er Jahre war er Mitglied des Quartetts des 
 Jazz-Professors Joe Viera. Daran schlossen sich zahlreiche Tätigkeiten an\, 
 wie z.B. Konzerte in der Philharmonie in St. Petersburg\, in Donezk\, in K
 iew\, auf dem Jazzfestival ?Jazz au Chellah? (Rabat/Marokko)\, die Leitung
  von Masterclasses am ?Conservatoire National De Musique Et De Danse? (Mar
 okko)\, Vorträge zu philosophischen Perspektiven im Jazz.Seit 2005 ist er as
 soziierter Bassist der Jazzband des Auswärtigen Amtes.Yatziv Caspi\, in Isra
 el geboren\, lebt seit 2009 in Berlin. Bereits mit 6 Jahren begann er\, Sc
 hlagzeug zu spielen. Er ist in vielen Stilrichtungen zuhause\, angefangen 
 beim Jazz über Pop\, Fusion\, Progressiv Rock bis hin zur Weltmusik. Mit 17 Jah
 ren nahm er bei einem indischen Lehrer 6 Jahre lang Tabla-Unterricht\, rei
 ste alsdann nach Nord-Indien und lernte die reichen Traditionen der indisc
 hen klassischen Musik kennen\, was seinen Zugang zu Rhythmus und musikalis
 chem Ausdruck um neue Dimensionen erweiterte.Harry Ermer\, in Landau/Pfalz
  geboren\, studierte Tonmeister an der HdK Berlin. Ab 1990 spielte er Keyb
 oard im Wintergarten Varieté Berlin und war ab 1992 Pianist im Orchester des
  Theaters des Westens. Ab 1996 begleitete er zahlreiche namhafte Künstler*innen
  in der Bar jeder Vernunft\, am Renaissance-Theater Berlin\, im TIPI\, am 
 Schlosspark-Theater Berlin und am Ernst-Deutsch-Theater Hamburg. Außerdem w
 irkte er bei Musikproduktionen für die TV-Serien ?Praxis Bülowbogen? und ?Lindenstra
 ße? mit. Er nahm CDs mit Manfred Krug\, Judy Winter\, Georg Preuße\, Till Br
 önner\, Joana Zimmer\, ?Ich &amp\; Ich?\, Sarah Connor und Sharon Brauner auf
 .\n\nViel Spass wünscht Gratis-in-Berlin\n\nLink zum Tip: \nZu den Gratis-in-Be
 rlin Angeboten: http://www.gratis-in-berlin.de\n
DTSTART;VALUE=DATE:20260507
DTEND;VALUE=DATE:20260508
SUMMARY:Jazz in der Alten Feuerwache / Marina & Her Good Spirits
END:VEVENT
END:VCALENDAR
