BEGIN:VCALENDAR
VERSION:2.0
PRODID:-//Gratis-in-Berlin//NONSGML kigkonsult.se iCalcreator 2.14//
METHOD:PUBLISH
X-WR-CALNAME:Gratis-in-Berlin Tip Kalender
X-WR-CALDESC:Erhalte Gratis-in-Berlin Tips in deinem Kalender
BEGIN:VEVENT
UID:20260421T171055UTC-3542v3v89V@Gratis-in-Berlin
DTSTAMP:20260421T171055Z
DESCRIPTION:Am 11. Mai 2026 findet um 19:00 Uhr im Manfred-Schmitz-Saal der
  Joseph-Schmidt-Musikschule Treptow-Köpenick ein ganz besonderer Konzertabend
  statt. Auf Initiative der Lehrkräfte der Fachgruppe Blasinstrumente ? Susan
 ne Ehrhardt\, Stefan Siebert und Patrice Boileau ? entsteht ein Konzert un
 ter dem Motto: ?Auftakt Alte Musik?. Begleitet werden die Solisten von Dmi
 try Pavlov. Ziel des Abends ist es\, die Alte Musik (ein Begriff für überliefer
 te weltliche und geistliche Musik des Mittelalters\, der Renaissance\, des
  Barock und teilweise der frühen Klassizismus) an der Musikschule bekannter zu 
 machen und sowohl Lehrkräfte als auch Schülerinnen und Schüler zu motivieren\, sich in
 tensiver mit diesem Bereich der historischen Musikpraxis auseinanderzusetz
 en. Für das Publikum bietet das Konzert ein wahres musikalisches Highlight: Es 
 wird nicht nur auf herkömmlichen Instrumenten wie Violine\, Cello\, Fagott un
 d Gitarre musiziert\, sondern auch auf seltenen Instrumenten wie Chalumeau
 x\, Zink\, Cembalo und Barocktrompete. Auf dem Programm stehen Stücke von J. S.
  Bach\, Dario Castello\, Tomaso Vitali und anderen Komponisten.\n\nViel Sp
 ass wünscht Gratis-in-Berlin\n\nLink zum Tip: https://www.gratis-in-berlin.de/d
 auerbrenner/22-musik/2078615-auftakt-alte-musik\nZu den Gratis-in-Berlin A
 ngeboten: http://www.gratis-in-berlin.de\n
DTSTART;VALUE=DATE:20260511
DTEND;VALUE=DATE:20260512
SUMMARY:Auftakt: Alte Musik!
END:VEVENT
END:VCALENDAR
