BEGIN:VCALENDAR
VERSION:2.0
PRODID:-//Gratis-in-Berlin//NONSGML kigkonsult.se iCalcreator 2.14//
METHOD:PUBLISH
X-WR-CALNAME:Gratis-in-Berlin Tip Kalender
X-WR-CALDESC:Erhalte Gratis-in-Berlin Tips in deinem Kalender
BEGIN:VEVENT
UID:20260421T170833UTC-3899r2CR0i@Gratis-in-Berlin
DTSTAMP:20260421T170833Z
DESCRIPTION:Alternative-Rock\n\nViel Spass wünscht Gratis-in-Berlin\n\nLink zum 
 Tip: \nZu den Gratis-in-Berlin Angeboten: http://www.gratis-in-berlin.de\n
DTSTART;VALUE=DATE:20260826
DTEND;VALUE=DATE:20260827
SUMMARY:Wild Wednesday w. 'Hermosa' (Alternative-Rock/Bln)
END:VEVENT
END:VCALENDAR
