BEGIN:VCALENDAR
VERSION:2.0
PRODID:-//Gratis-in-Berlin//NONSGML kigkonsult.se iCalcreator 2.14//
METHOD:PUBLISH
X-WR-CALNAME:Gratis-in-Berlin Tip Kalender
X-WR-CALDESC:Erhalte Gratis-in-Berlin Tips in deinem Kalender
BEGIN:VEVENT
UID:20260421T225406UTC-3290TWTBKR@Gratis-in-Berlin
DTSTAMP:20260421T225406Z
DESCRIPTION:Ay?e Deniz Birdal\, Cello und GesangHildegard von Bingen (1098-
 1179) Caritas Abundat (arr. für solo Cello und Stimme von&nbsp\;Ay?e Deniz Bird
 al)Ay?e Deniz Birdal (1996)\, ?Sterntropfen? für solo Cello und Stimme (2019)Ay
 ?e Deniz Birdal (1996)\, ?Kamber Han?m?\, Variationen über eine uigurische Volk
 smelodie&nbsp\;für solo Cello und Stimme (2019)Hildegard von Bingen (1098-1179)
  De Spirutu Sancto (arr. für solo Cello und Stimme von&nbsp\;Ay?e Deniz Birdal)
 PauseAy?e Deniz Birdal (1996)\, ?Sky-Cut? für solo Cello und Stimme (2015)Ricca
 rdo Perugini (1996)\, ?Troubadouritz? für singende Cellistin (2020)-Partimen-Vi
 adeyra-ComiatHenry Purcell (1659-1695)\, 'Dido?s Lament\, When I Am Laid i
 n Earth? (arr. für solo Cello&nbsp\;und Stimme von Ay?e Deniz Birdal)Ay?e Deniz
  Birdal (1996)\, ?Bridging Songs? für singende Cellistin (2025)-By the Customs 
 House-Göçmen K?z?Bismillah ar-Rahman\, traditioneller Sufi-Gesang (arr. für solo C
 ello und Stimme von Ay?e&nbsp\;Deniz Birdal)Ay?e Deniz Birdal (1996)\, ?Be
 atrix of Joy? für solo Cello und Stimme (2021)\n\nViel Spass wünscht Gratis-in-Berli
 n\n\nLink zum Tip: https://www.gratis-in-berlin.de/component/flexicontent/
 22-musik/2078624-cello-power\nZu den Gratis-in-Berlin Angeboten: http://ww
 w.gratis-in-berlin.de\n
DTSTART;VALUE=DATE:20260423
DTEND;VALUE=DATE:20260424
SUMMARY:Cello Power
END:VEVENT
END:VCALENDAR
