BEGIN:VCALENDAR
VERSION:2.0
PRODID:-//Gratis-in-Berlin//NONSGML kigkonsult.se iCalcreator 2.14//
METHOD:PUBLISH
X-WR-CALNAME:Gratis-in-Berlin Tip Kalender
X-WR-CALDESC:Erhalte Gratis-in-Berlin Tips in deinem Kalender
BEGIN:VEVENT
UID:20260422T113808UTC-4625UKE2B6@Gratis-in-Berlin
DTSTAMP:20260422T113808Z
DESCRIPTION:Oratorium für Chor\, Solisten und Orchester.Singschule TreptowKantor
 ei Baumschulenweg / TreptowUkrainian Exile OrchestraBirita Poulsen (Sopran
 )\, Vista Zvaigzne (Alt)\, Alexander Caldwell (Tenor)\, Carlo Schmitz (Bas
 s)Leitung: Barbora YheeEintritt freiKirche zum Vaterhaus\n\nViel Spass wünscht 
 Gratis-in-Berlin\n\nLink zum Tip: \nZu den Gratis-in-Berlin Angeboten: htt
 p://www.gratis-in-berlin.de\n
DTSTART;VALUE=DATE:20260510
DTEND;VALUE=DATE:20260511
SUMMARY:Händel für alle! The Messiah
END:VEVENT
END:VCALENDAR
