BEGIN:VCALENDAR
VERSION:2.0
PRODID:-//Gratis-in-Berlin//NONSGML kigkonsult.se iCalcreator 2.14//
METHOD:PUBLISH
X-WR-CALNAME:Gratis-in-Berlin Tip Kalender
X-WR-CALDESC:Erhalte Gratis-in-Berlin Tips in deinem Kalender
BEGIN:VEVENT
UID:20260422T123617UTC-8479xFrsn9@Gratis-in-Berlin
DTSTAMP:20260422T123617Z
DESCRIPTION:Jeden Monat können Sie bei uns an der Seite von Klangprofis elektr
 onische Musikinstrumente kennenlernen\, ausprobieren und vielleicht sogar 
 in eine experimentelle Jamsession geraten.Vom Crashkurs zu vorsichtigen Be
 eps bis zu rauschenden Beats ist alles möglich. Auch Ihre Fragen zu den Instr
 umenten aus der BeepBib und elektronischer Musik überhaupt sind hier gut aufgeh
 oben.\n\nViel Spass wünscht Gratis-in-Berlin\n\nLink zum Tip: \nZu den Gratis-i
 n-Berlin Angeboten: http://www.gratis-in-berlin.de\n
DTSTART;VALUE=DATE:20260607
DTEND;VALUE=DATE:20260608
SUMMARY:Beep | Wir machen elektronische Musik
END:VEVENT
END:VCALENDAR
