BEGIN:VCALENDAR
VERSION:2.0
PRODID:-//Gratis-in-Berlin//NONSGML kigkonsult.se iCalcreator 2.14//
METHOD:PUBLISH
X-WR-CALNAME:Gratis-in-Berlin Tip Kalender
X-WR-CALDESC:Erhalte Gratis-in-Berlin Tips in deinem Kalender
BEGIN:VEVENT
UID:20260423T113640UTC-6190e3ijZ8@Gratis-in-Berlin
DTSTAMP:20260423T113640Z
DESCRIPTION:Mehr als 100 Opern und 600 Kammerkantaten hat Alessandro Scarla
 tti (1660?1725) geschaffen\, neben Instrumentalmusik\, einer Johannespassi
 on\, zahlreichen Oratorien\, Messen und Psalmvertonungen. Durch neue Impul
 se hat er den italienischen Hochbarock wesentlich mitgeprägt. In Rom entstan
 dene Kirchenmusik nimmt teilweise ausdrücklich auf die Vokalpolyphonie der Rena
 issance Bezug ? selbst Scarlattis Handschrift imitiert hier das alte Noten
 bild. Aber gerade auch diese Stücke sind harmonisch oft derart kühn und überraschend\, da
 ss etwas vollkommen Neues dabei entsteht. Der kammerchor orchi e balene br
 ingt mit einer Messe\, einem Ave maris stella und vier Psalm-Motetten eine
  Auswahl vierstimmiger Kompositionen zur Aufführung.kammerchor orchi e baleneAn
 dreas Arend - TheorbeEva Schulze - OrgelMarkus Wettstein - LeitungEintritt
  frei - Spenden willkommen\n\nViel Spass wünscht Gratis-in-Berlin\n\nLink zum T
 ip: https://www.gratis-in-berlin.de/dauerbrenner/22-musik/2078637-alessand
 ro-scarlatti-canti-sacri\nZu den Gratis-in-Berlin Angeboten: http://www.gr
 atis-in-berlin.de\n
DTSTART;VALUE=DATE:20260518
DTEND;VALUE=DATE:20260519
SUMMARY:Alessandro Scarlatti - canti sacri
END:VEVENT
END:VCALENDAR
