BEGIN:VCALENDAR
VERSION:2.0
PRODID:-//Gratis-in-Berlin//NONSGML kigkonsult.se iCalcreator 2.14//
METHOD:PUBLISH
X-WR-CALNAME:Gratis-in-Berlin Tip Kalender
X-WR-CALDESC:Erhalte Gratis-in-Berlin Tips in deinem Kalender
BEGIN:VEVENT
UID:20260423T020247UTC-2316Luu834@Gratis-in-Berlin
DTSTAMP:20260423T020247Z
DESCRIPTION:Noelia Sarris album release concert. Wave Gothic Meeting Offici
 al artistAlbum release concert! At Kapelle Am Urban Grimmstraße 10\, 10967 
 Berlin 20:00 (arrive on time) Free entry (donation based) I will be presen
 ting my new compositions with piano\, organ pedal and voice. Don't miss it
 ! Noelia Sarris is a professional pianist\, composer and singer from Argen
 tina based in Berlin. Her music is characterized by the combination of dif
 ferent styles from Post-Romantic and Impressionism styles to the intensity
  of her home country's famous Tango\, with a strong Gothic influence. She 
 also explores different sound effects with her organ pedal merging it with
  the piano and voice. She was educated at the José Hernandez music Academy i
 n Buenos Aires and graduated as a piano professor. https://youtu.be/5U4__s
 g_CBw?si=OrhjQiUXDKbjJ1v- open.spotify.com/artist/1y3z30O6kZtPGsp8x6H498 i
 nstagram.com/noeliagothicpiano\n\nViel Spass wünscht Gratis-in-Berlin\n\nLink z
 um Tip: \nZu den Gratis-in-Berlin Angeboten: http://www.gratis-in-berlin.d
 e\n
DTSTART;VALUE=DATE:20260424
DTEND;VALUE=DATE:20260425
SUMMARY:Piano Concert Noelia Sarris & Album release
END:VEVENT
END:VCALENDAR
