BEGIN:VCALENDAR
VERSION:2.0
PRODID:-//Gratis-in-Berlin//NONSGML kigkonsult.se iCalcreator 2.14//
METHOD:PUBLISH
X-WR-CALNAME:Gratis-in-Berlin Tip Kalender
X-WR-CALDESC:Erhalte Gratis-in-Berlin Tips in deinem Kalender
BEGIN:VEVENT
UID:20260423T131252UTC-6251818dV7@Gratis-in-Berlin
DTSTAMP:20260423T131252Z
DESCRIPTION:Roman Stolbovund Daniel GrunskiAkkordeonJohann Sebastian Bach (
 1685-1750)Englische Suite No.5 e-moll\, BWV 810PräludiumAllemandeCouranteSar
 abandePassepied I &amp\; IIGigue\;(Roman Stolbov)Jürgen Ganzer (1950*)Passacagl
 iaJohann Sebastian BachPassacaglia und Fuge in c moll\, BWV 582(Daniel Gru
 nski)PAUSEJean-Philippe Rameau (1683-1764)La PouleJean-Philippe Rameau (16
 83-1764)L?Entretien des MusesGeorg Katzer (1935-2019)En avant? - où?(Daniel Gr
 unski)Jukka Tiensuu (1948*)FantangoAlexander Timoshenko (1942-1999)Fantasi
 e über das ukrainische Volkslied?Oj u poli ?yto?(?Oh\, auf dem Feld steht der R
 oggen?)Moritz Moszkowski (1854-1925)Caprice Espagnol\, Op. 37(Roman Stolbo
 v)\n\nViel Spass wünscht Gratis-in-Berlin\n\nLink zum Tip: https://www.gratis-i
 n-berlin.de/component/flexicontent/22-musik/2078640-akkordeon-unglaublich
 \nZu den Gratis-in-Berlin Angeboten: http://www.gratis-in-berlin.de\n
DTSTART;VALUE=DATE:20260424
DTEND;VALUE=DATE:20260425
SUMMARY:Akkordeon! Unglaublich!
END:VEVENT
END:VCALENDAR
