BEGIN:VCALENDAR
VERSION:2.0
PRODID:-//Gratis-in-Berlin//NONSGML kigkonsult.se iCalcreator 2.14//
METHOD:PUBLISH
X-WR-CALNAME:Gratis-in-Berlin Tip Kalender
X-WR-CALDESC:Erhalte Gratis-in-Berlin Tips in deinem Kalender
BEGIN:VEVENT
UID:20260423T113411UTC-0094A9p3zZ@Gratis-in-Berlin
DTSTAMP:20260423T113411Z
DESCRIPTION:Three wondeful indie artists at Frollein Langner. Free Entry\, 
 Donations welcome !H.Birdbath:https://www.youtube.com/watch?v=CVGE2WC10hMF
 ather Time (live)https://www.instagram.com/h.birdbath/https://on.soundclou
 d.com/eKlltzy4QTeVqgdWFiGirly and the Popswww.girlyandthepops.comstream li
 ve at 246stream missed calls from girlyhttps://www.instagram.com/girlyandt
 hepops/www.youtube.com/@GirlyandthePops\n\nViel Spass wünscht Gratis-in-Berlin
 \n\nLink zum Tip: \nZu den Gratis-in-Berlin Angeboten: http://www.gratis-i
 n-berlin.de\n
DTSTART;VALUE=DATE:20260428
DTEND;VALUE=DATE:20260429
SUMMARY:Frollein Langner x Girly and the Pops\, H. Birdbarth\, Lulia FREE C
 ONCERT 
END:VEVENT
END:VCALENDAR
