BEGIN:VCALENDAR
VERSION:2.0
PRODID:-//Gratis-in-Berlin//NONSGML kigkonsult.se iCalcreator 2.14//
METHOD:PUBLISH
X-WR-CALNAME:Gratis-in-Berlin Tip Kalender
X-WR-CALDESC:Erhalte Gratis-in-Berlin Tips in deinem Kalender
BEGIN:VEVENT
UID:20260423T123329UTC-5484gET0j1@Gratis-in-Berlin
DTSTAMP:20260423T123329Z
DESCRIPTION:Duo BaphoUwe Siewert-Busch\, Kontrabass\, RebabRaffael Kircher\
 , Altsaxophonpräsentieren ein abwechslungsreiches Programm mit eigenen Stücken un
 d Improvisationen.\n\nViel Spass wünscht Gratis-in-Berlin\n\nLink zum Tip: \nZu
  den Gratis-in-Berlin Angeboten: http://www.gratis-in-berlin.de\n
DTSTART;VALUE=DATE:20260425
DTEND;VALUE=DATE:20260426
SUMMARY:Konzert mit Kontrabass\, Rebab\, Altsaxophon
END:VEVENT
END:VCALENDAR
