BEGIN:VCALENDAR
VERSION:2.0
PRODID:-//Gratis-in-Berlin//NONSGML kigkonsult.se iCalcreator 2.14//
METHOD:PUBLISH
X-WR-CALNAME:Gratis-in-Berlin Tip Kalender
X-WR-CALDESC:Erhalte Gratis-in-Berlin Tips in deinem Kalender
BEGIN:VEVENT
UID:20260423T155453UTC-7951UVAUsn@Gratis-in-Berlin
DTSTAMP:20260423T155453Z
DESCRIPTION:Mehr als 100 Opern und 600 Kammerkantaten hat Alessandro Scarla
 tti (1660?1725) geschaffen\, neben Instrumentalmusik\, einer Johannespassi
 on\, zahlreichen Oratorien\, Messen und Psalmvertonungen. Durch neue Impul
 se hat er den italienischen Hochbarock wesentlich mitgeprägt. In Rom entstan
 dene Kirchenmusik nimmt teilweise ausdrücklich auf die Vokalpolyphonie der Rena
 issance Bezug ? selbst Scarlattis Handschrift imitiert hier das alte Noten
 bild. Aber gerade auch diese Stücke sind harmonisch oft derart kühn und überraschend\, da
 ss etwas vollkommen Neues dabei entsteht. Der kammerchor orchi e balene br
 ingt mit einer Messe\, einem Ave maris stella und vier Psalm-Motetten eine
  Auswahl vierstimmiger Kompositionen zur Aufführung\, gemeinsam mit&nbsp\;Andre
 as Arend an der Theorbe und&nbsp\;Eva Schulze an der Orgel\, unter der Lei
 tung von&nbsp\;Markus Wettstein.\n\nViel Spass wünscht Gratis-in-Berlin\n\nLink
  zum Tip: \nZu den Gratis-in-Berlin Angeboten: http://www.gratis-in-berlin
 .de\n
DTSTART;VALUE=DATE:20260519
DTEND;VALUE=DATE:20260520
SUMMARY:Alessandro Scarlatti ? canti sacri ? in der Dreifaltigkeitskirche L
 ankwitz
END:VEVENT
END:VCALENDAR
