BEGIN:VCALENDAR
VERSION:2.0
PRODID:-//Gratis-in-Berlin//NONSGML kigkonsult.se iCalcreator 2.14//
METHOD:PUBLISH
X-WR-CALNAME:Gratis-in-Berlin Tip Kalender
X-WR-CALDESC:Erhalte Gratis-in-Berlin Tips in deinem Kalender
BEGIN:VEVENT
UID:20260423T215237UTC-0900DOpAwa@Gratis-in-Berlin
DTSTAMP:20260423T215237Z
DESCRIPTION:Ein interaktives Konzert für Klein und Groß Gemeinsam begeben wir uns
  auf eine musikalische Reise mit Georg Friedrich Händel. Kinder (Singschule 
 Treptow)\, Erwachsene (Kantorei Baumschulenweg/Treptow) und das profession
 elle ?Ukrainian Exile Orchestra? stehen zusammen auf der Bühne. Musik-Instrumen
 te wie Geige\, Oboe oder Kontrabass werden vorgestellt\, bekannte Melodien
  erklingen und das Publikum wird durch Mitmachelemente in die Welt der kla
 ssischen Musik hineingezogen. Das Konzert findet im Rahmen des vom Land Be
 rlin geförderten Jugendprogramms ?Händel für ALLE? statt.\n\nViel Spass wünscht Gratis-in
 -Berlin\n\nLink zum Tip: \nZu den Gratis-in-Berlin Angeboten: http://www.g
 ratis-in-berlin.de\n
DTSTART;VALUE=DATE:20260509
DTEND;VALUE=DATE:20260510
SUMMARY:Familienkonzert: Georg Friedrich Händel 'Der Reisende'
END:VEVENT
END:VCALENDAR
