BEGIN:VCALENDAR
VERSION:2.0
PRODID:-//Gratis-in-Berlin//NONSGML kigkonsult.se iCalcreator 2.14//
METHOD:PUBLISH
X-WR-CALNAME:Gratis-in-Berlin Tip Kalender
X-WR-CALDESC:Erhalte Gratis-in-Berlin Tips in deinem Kalender
BEGIN:VEVENT
UID:20260426T002459UTC-5133G8VRca@Gratis-in-Berlin
DTSTAMP:20260426T002459Z
DESCRIPTION:One woman\, one man\, one guitar: Acoustic Rock &amp\; Pop live
  mit Leadsängerin Cashima (voc) und William (Big Land Band\, guit/voc) in 'D
 ie Kleine Philharmonie' in Berlin Wilmersdorf\, Programm nach Lust und Lau
 ne\, ab ca. 20 Uhr\, Eintritt frei!\n\nViel Spass wünscht Gratis-in-Berlin\n\nL
 ink zum Tip: \nZu den Gratis-in-Berlin Angeboten: http://www.gratis-in-ber
 lin.de\n
DTSTART;VALUE=DATE:20260530
DTEND;VALUE=DATE:20260531
SUMMARY:Cashima & the Big Land Man - Acoustic Rock/Pop
END:VEVENT
END:VCALENDAR
