BEGIN:VCALENDAR
VERSION:2.0
PRODID:-//Gratis-in-Berlin//NONSGML kigkonsult.se iCalcreator 2.14//
METHOD:PUBLISH
X-WR-CALNAME:Gratis-in-Berlin Tip Kalender
X-WR-CALDESC:Erhalte Gratis-in-Berlin Tips in deinem Kalender
BEGIN:VEVENT
UID:20260424T101941UTC-5525sNiZ1r@Gratis-in-Berlin
DTSTAMP:20260424T101941Z
DESCRIPTION:Alice Salomon Poetik Preis 2010 - Verleihung an Valeri Scherstj
 anoi\n\nDer Alice Salomon Poetik Preis\, vergeben von der Alice Salomon Ho
 chschule Berlin\, geht im Jahr 2010 an den seit 30 Jahren in Deutschland l
 ebenden Schreib- und Vortragskünstler\, Lautdichter\, Erzahler und Horspielauto
 r Valeri Scherstjanoi. -Eine künstlerische Ausnahmeerscheinung\, ein Meister de
 r Zwischenbereiche- - so charakterisiert die Jury den Preistrager des Alic
 e Salomon Poetik Preises 2010. Scherstjanoi\, 1950 in Kasachstan geboren u
 nd in Russland aufgewachsen\, ist immer in Bewegung: zwischen den Sprachen
  und den Künsten\, zwischen Tradition und Innovation\, zwischen asthetischer un
 d vermittelnder Tatigkeit. In seinem -sLautland- entwickelt sich eine ganz
  eigenstandige feinsinnige Sprachkunst in der engen Verbindung von Schreib
 en\, Zeichnen und Artikulieren.\nDer Poetik Preis\, der jahrlich vergeben 
 wird\, ist eine Hommage an die Namensgeberin Alice Salomon. Für die Sozialrefor
 merin stellten bereits vor mehr als 100 Jahren Kunst und Kultur eine wicht
 ige Inspirationsquelle zur Erforschung und zur geistigen Reflexion der Wel
 t dar. Der Preis\, der auch eine Poetik-Dozentur beinhaltet\, wurde zum er
 sten Mal 2007 vergeben\, kurz nachdem die ASH Berlin als erste in Deutschl
 and den Masterstudiengang -Biografisches und Kreatives Schreiben- einführte. Di
 e Jury besteht aus Hochschulangehorigen\, Kulturmanagern und den Preistrag
 ern der Vorjahre.\n\n5. Februar 2010\, 18 Uhr\nPoetik Vorlesung mit Valeri
  Scherstjanoi\nOrt: Alice Salomon Hochschule Berlin\,\nAlice-Salomon-Platz
  5\,\n12627 Berlin\nEintritt frei\nU5 bis Hellersdorf (23 Min vom Alexande
 rplatz)\n\n6. Februar 2010\, 19 Uhr\nVerleihung des Poetik Preises 2010\nO
 rt: Berlinischen Galerie\, Alte Jakobstraße 124-128\, 10969 Berlin\nEintrit
 t frei\n\n\n\nViel Spass wünscht Gratis-in-Berlin\n\nLink zum Tip: https://www.
 gratis-in-berlin.de/item/2001440\nZu den Gratis-in-Berlin Angeboten: http:
 //www.gratis-in-berlin.de\n
DTSTART;VALUE=DATE:20100205
DTEND;VALUE=DATE:20100207
SUMMARY:Alice Salomon Poetik Preis 2010 - Verleihung an Valeri Scherstjanoi
END:VEVENT
END:VCALENDAR
